BEGIN:VCALENDAR
VERSION:2.0
PRODID:-//Central Kansas Community Foundation - ECPv6.15.20//NONSGML v1.0//EN
CALSCALE:GREGORIAN
METHOD:PUBLISH
X-WR-CALNAME:Central Kansas Community Foundation
X-ORIGINAL-URL:https://centralkansascf.org
X-WR-CALDESC:Events for Central Kansas Community Foundation
REFRESH-INTERVAL;VALUE=DURATION:PT1H
X-Robots-Tag:noindex
X-PUBLISHED-TTL:PT1H
BEGIN:VTIMEZONE
TZID:America/Chicago
BEGIN:DAYLIGHT
TZOFFSETFROM:-0600
TZOFFSETTO:-0500
TZNAME:CDT
DTSTART:20220313T080000
END:DAYLIGHT
BEGIN:STANDARD
TZOFFSETFROM:-0500
TZOFFSETTO:-0600
TZNAME:CST
DTSTART:20221106T070000
END:STANDARD
BEGIN:DAYLIGHT
TZOFFSETFROM:-0600
TZOFFSETTO:-0500
TZNAME:CDT
DTSTART:20230312T080000
END:DAYLIGHT
BEGIN:STANDARD
TZOFFSETFROM:-0500
TZOFFSETTO:-0600
TZNAME:CST
DTSTART:20231105T070000
END:STANDARD
BEGIN:DAYLIGHT
TZOFFSETFROM:-0600
TZOFFSETTO:-0500
TZNAME:CDT
DTSTART:20240310T080000
END:DAYLIGHT
BEGIN:STANDARD
TZOFFSETFROM:-0500
TZOFFSETTO:-0600
TZNAME:CST
DTSTART:20241103T070000
END:STANDARD
END:VTIMEZONE
BEGIN:VEVENT
DTSTART;VALUE=DATE:20230904
DTEND;VALUE=DATE:20230905
DTSTAMP:20260420T235617
CREATED:20230110T225341Z
LAST-MODIFIED:20230111T181947Z
UID:11328-1693785600-1693871999@centralkansascf.org
SUMMARY:Observed Holiday - Labor Day
DESCRIPTION:CKCF office is closed in recognition of this observed holiday.
URL:https://centralkansascf.org/event/labor-day/
END:VEVENT
BEGIN:VEVENT
DTSTART;TZID=America/Chicago:20230907T160000
DTEND;TZID=America/Chicago:20230907T180000
DTSTAMP:20260420T235617
CREATED:20230831T190021Z
LAST-MODIFIED:20230905T203217Z
UID:12227-1694102400-1694109600@centralkansascf.org
SUMMARY:Listen/Discuss/Engage - Facilitated Discussion
DESCRIPTION:Listen. Discuss. Engage. Host-Affiliate Model Engagement\nThe CKCF Board and staff leadership is eager to hear from you about our service model. While we welcome feedback anytime and are open to hearing input\, we have not conducted a formal affiliate survey since 2018. It is time overdue. We are listening and want to hear from you\, so together a service model can best serve the changing landscape of our industry. \nA three-prong approach will be conducted now through Spring 2024. \nListen. August – October 2023. We want to see you actively respond to technical questions about our work and record responses for our information gathering phase. \nDiscuss. September 2023. Three opportunities for a facilitated roundtable conversations. Join other Affiliate Advisory Board Members\, CKCF Board Members and staff for a conversation. It can be used as deeper dive if you’ve started conversations at local table or use these conversations as a launch pad to continue your local dialogue as we welcome your input from the survey the dialogue session but also in any format outside of that. \nEngage. November – March 2024. Information received from written feedback\, online survey responses\, notes assembled at roundtable discussions and any other ancillary feedback will be consolidated for incorporation into a Strategic Planning Session March 7\, 2024\, 10 am to 2 pm (our annual CKCF-Affiliate Summit) \nThese sessions will be facilitated by:\nSarah Jolley\, PhD\nWichita State University\, Community Engagement Institute\nCenter for Applied Research & Evaluation (CARE) \nFacilitated Dialogues \nSeptember 7\, 2023 \nRoundtable Board Discussions\n400 S Main\, Suite 100\, Newton\n4:00-6:00 pm \nSeptember 12\, 2023\nRoundtable Board Discussions\n400 S Main\, Suite 100\, Newton\n9:00-11:00 am \nSeptember 19\, 2023 \nZoom Board Discussions\n11:30 am – 1:30 pm\nZoom meeting link: Click here\nPassword: \nRegister today to attend the Facilitated Dialogue sessions this September! \nONLINE SURVEY  CLICK HERE   \nTogether we are building stronger communities!
URL:https://centralkansascf.org/event/facilitated-discussion-1/
LOCATION:Central Kansas Community Foundation\, 400 South Main St\, Suite 100\, Newton\, KS\, 67114\, United States
CATEGORIES:Central Kansas Community Conversation
END:VEVENT
BEGIN:VEVENT
DTSTART;TZID=America/Chicago:20230912T090000
DTEND;TZID=America/Chicago:20230912T110000
DTSTAMP:20260420T235617
CREATED:20230831T185640Z
LAST-MODIFIED:20230905T203406Z
UID:12225-1694509200-1694516400@centralkansascf.org
SUMMARY:Listen/Discuss/Engage - Facilitated Discussion
DESCRIPTION:Listen. Discuss. Engage. Host-Affiliate Model Engagement\nThe CKCF Board and staff leadership is eager to hear from you about our service model. While we welcome feedback anytime and are open to hearing input\, we have not conducted a formal affiliate survey since 2018. It is time overdue. We are listening and want to hear from you\, so together a service model can best serve the changing landscape of our industry. \nA three-prong approach will be conducted now through Spring 2024. \nListen. August – October 2023. We want to see you actively respond to technical questions about our work and record responses for our information gathering phase. \nDiscuss. September 2023. Three opportunities for a facilitated roundtable conversations. Join other Affiliate Advisory Board Members\, CKCF Board Members and staff for a conversation. It can be used as deeper dive if you’ve started conversations at local table or use these conversations as a launch pad to continue your local dialogue as we welcome your input from the survey the dialogue session but also in any format outside of that. \nEngage. November – March 2024. Information received from written feedback\, online survey responses\, notes assembled at roundtable discussions and any other ancillary feedback will be consolidated for incorporation into a Strategic Planning Session March 7\, 2024\, 10 am to 2 pm (our annual CKCF-Affiliate Summit) \nThese sessions will be facilitated by:\nSarah Jolley\, PhD\nWichita State University\, Community Engagement Institute\nCenter for Applied Research & Evaluation (CARE) \nFacilitated Dialogues \nSeptember 7\, 2023 \nRoundtable Board Discussions\n400 S Main\, Suite 100\, Newton\n4:00-6:00 pm \nSeptember 12\, 2023\nRoundtable Board Discussions\n400 S Main\, Suite 100\, Newton\n9:00-11:00 am \nSeptember 19\, 2023 \nZoom Board Discussions\n11:30 am – 1:30 pm\nZoom meeting link: Click here\nPassword: \nRegister today to attend the Facilitated Dialogue sessions this September! \nONLINE SURVEY: CLICK HERE \nTogether we are building stronger communities!
URL:https://centralkansascf.org/event/facilitated-discussion-2/
LOCATION:Central Kansas Community Foundation\, 400 South Main St\, Suite 100\, Newton\, KS\, 67114\, United States
CATEGORIES:Central Kansas Community Conversation
END:VEVENT
BEGIN:VEVENT
DTSTART;TZID=America/Chicago:20230916T090000
DTEND;TZID=America/Chicago:20230916T123000
DTSTAMP:20260420T235617
CREATED:20230524T141112Z
LAST-MODIFIED:20230820T200617Z
UID:11840-1694854800-1694867400@centralkansascf.org
SUMMARY:Benefit Golf Tournament - Goessel Community Foundation
DESCRIPTION:Join Goessel Community Foundation for its annual Benefit Golf Tournament on Saturday\, September 16\, 2023 at Pine Edge Golf Course (Newton). Tickets are $50 and include 18 holes golf\, 3 mulligans\, lunch and prizes. \nClick here to purchase tickets! \n 
URL:https://centralkansascf.org/event/benefit-golf-tournament-goessel-community-foundation/
LOCATION:Pine Edge Golf Course\, 468 130th St\, Newton\, KS\, 67114\, United States
CATEGORIES:Patterson Family Match
END:VEVENT
BEGIN:VEVENT
DTSTART;TZID=America/Chicago:20230919T113000
DTEND;TZID=America/Chicago:20230919T133000
DTSTAMP:20260420T235617
CREATED:20230831T185218Z
LAST-MODIFIED:20230905T203537Z
UID:12219-1695123000-1695130200@centralkansascf.org
SUMMARY:Listen/Discuss/Engage - Facilitated Discussion
DESCRIPTION:Listen. Discuss. Engage. Host-Affiliate Model Engagement\nThe CKCF Board and staff leadership is eager to hear from you about our service model. While we welcome feedback anytime and are open to hearing input\, we have not conducted a formal affiliate survey since 2018. It is time overdue. We are listening and want to hear from you\, so together a service model can best serve the changing landscape of our industry. \nA three-prong approach will be conducted now through Spring 2024. \nListen. August – October 2023. We want to see you actively respond to technical questions about our work and record responses for our information gathering phase. \nDiscuss. September 2023. Three opportunities for a facilitated roundtable conversations. Join other Affiliate Advisory Board Members\, CKCF Board Members and staff for a conversation. It can be used as deeper dive if you’ve started conversations at local table or use these conversations as a launch pad to continue your local dialogue as we welcome your input from the survey the dialogue session but also in any format outside of that. \nEngage. November – March 2024. Information received from written feedback\, online survey responses\, notes assembled at roundtable discussions and any other ancillary feedback will be consolidated for incorporation into a Strategic Planning Session March 7\, 2024\, 10 am to 2 pm (our annual CKCF-Affiliate Summit) \nThese sessions will be facilitated by:\nSarah Jolley\, PhD\nWichita State University\, Community Engagement Institute\nCenter for Applied Research & Evaluation (CARE) \nFacilitated Dialogues \nSeptember 7\, 2023 \nRoundtable Board Discussions\n400 S Main\, Suite 100\, Newton\n4:00-6:00 pm \nSeptember 12\, 2023\nRoundtable Board Discussions\n400 S Main\, Suite 100\, Newton\n9:00-11:00 am \nSeptember 19\, 2023 \nZoom Board Discussions\n11:30 am – 1:30 pm\nZoom meeting link: Click here\nPassword: \nRegister today to attend the Facilitated Dialogue sessions this September! \nONLINE SURVEY: CLICK HERE \nTogether we are building stronger communities!
URL:https://centralkansascf.org/event/facilitated-discussion-3/
CATEGORIES:Central Kansas Community Conversation
END:VEVENT
BEGIN:VEVENT
DTSTART;VALUE=DATE:20230922
DTEND;VALUE=DATE:20231010
DTSTAMP:20260420T235617
CREATED:20230820T203145Z
LAST-MODIFIED:20230922T172522Z
UID:12089-1695340800-1696895999@centralkansascf.org
SUMMARY:Community Improvement Campaign - Peabody Community Foundation
DESCRIPTION:Support Peabody Community Improvement Fund! \nFrom September 22 – October 9\, make your gift count in support of Peabody Community Improvement Fund! Proceeds raised during this matching campaign are eligible for $10\,000 matching funds.
URL:https://centralkansascf.org/event/community-improvement-campaign-peabody-community-foundation/
END:VEVENT
END:VCALENDAR