BEGIN:VCALENDAR
VERSION:2.0
PRODID:-//Central Kansas Community Foundation - ECPv6.15.20//NONSGML v1.0//EN
CALSCALE:GREGORIAN
METHOD:PUBLISH
X-ORIGINAL-URL:https://centralkansascf.org
X-WR-CALDESC:Events for Central Kansas Community Foundation
REFRESH-INTERVAL;VALUE=DURATION:PT1H
X-Robots-Tag:noindex
X-PUBLISHED-TTL:PT1H
BEGIN:VTIMEZONE
TZID:America/Chicago
BEGIN:DAYLIGHT
TZOFFSETFROM:-0600
TZOFFSETTO:-0500
TZNAME:CDT
DTSTART:20220313T080000
END:DAYLIGHT
BEGIN:STANDARD
TZOFFSETFROM:-0500
TZOFFSETTO:-0600
TZNAME:CST
DTSTART:20221106T070000
END:STANDARD
BEGIN:DAYLIGHT
TZOFFSETFROM:-0600
TZOFFSETTO:-0500
TZNAME:CDT
DTSTART:20230312T080000
END:DAYLIGHT
BEGIN:STANDARD
TZOFFSETFROM:-0500
TZOFFSETTO:-0600
TZNAME:CST
DTSTART:20231105T070000
END:STANDARD
BEGIN:DAYLIGHT
TZOFFSETFROM:-0600
TZOFFSETTO:-0500
TZNAME:CDT
DTSTART:20240310T080000
END:DAYLIGHT
BEGIN:STANDARD
TZOFFSETFROM:-0500
TZOFFSETTO:-0600
TZNAME:CST
DTSTART:20241103T070000
END:STANDARD
END:VTIMEZONE
BEGIN:VEVENT
DTSTART;VALUE=DATE:20230810
DTEND;VALUE=DATE:20230811
DTSTAMP:20260421T012820
CREATED:20230820T203826Z
LAST-MODIFIED:20230820T203826Z
UID:12098-1691625600-1691711999@centralkansascf.org
SUMMARY:August Castle Park
DESCRIPTION:Save the date! More details to come.
URL:https://centralkansascf.org/event/august-castle-park/
END:VEVENT
BEGIN:VEVENT
DTSTART;TZID=America/Chicago:20230817T160000
DTEND;TZID=America/Chicago:20230817T180000
DTSTAMP:20260421T012820
CREATED:20230717T184922Z
LAST-MODIFIED:20230717T184922Z
UID:12007-1692288000-1692295200@centralkansascf.org
SUMMARY:Grant Awards - Newton Community Foundation
DESCRIPTION:Join us on Thursday\, August 17 from 4-6 PM at the NEW! CKCF Offices located at 400 S Main Street\, Suite 100 (Newton).
URL:https://centralkansascf.org/event/grant-awards-newton-community-foundation/
LOCATION:Central Kansas Community Foundation\, 400 South Main St\, Suite 100\, Newton\, KS\, 67114\, United States
END:VEVENT
BEGIN:VEVENT
DTSTART;TZID=America/Chicago:20230823T120000
DTEND;TZID=America/Chicago:20230823T130000
DTSTAMP:20260421T012820
CREATED:20230111T181646Z
LAST-MODIFIED:20230821T140643Z
UID:11348-1692792000-1692795600@centralkansascf.org
SUMMARY:New Board Member Orientation
DESCRIPTION:This orientation is being provided by Central Kansas Community Foundation (CKCF) as an introduction to CKCF and their role as host foundation along with the affiliate service model. 19 affiliate foundation are under the umbrella of CKCF and have local advisory boards. This orientation will bring clarity to this role and welcome to the local work of philanthropy in central Kansas. \nOrientation Packet: Click Here \nZoom Link: Click Here\nMeeting ID: 842 2765 2488\nPasscode: 261609
URL:https://centralkansascf.org/event/new-board-member-orientation-8/
ORGANIZER;CN="Angie Tatro%2C CEO":MAILTO:angie@centralkansascf.org
END:VEVENT
END:VCALENDAR