BEGIN:VCALENDAR
VERSION:2.0
PRODID:-//Central Kansas Community Foundation - ECPv6.15.20//NONSGML v1.0//EN
CALSCALE:GREGORIAN
METHOD:PUBLISH
X-ORIGINAL-URL:https://centralkansascf.org
X-WR-CALDESC:Events for Central Kansas Community Foundation
REFRESH-INTERVAL;VALUE=DURATION:PT1H
X-Robots-Tag:noindex
X-PUBLISHED-TTL:PT1H
BEGIN:VTIMEZONE
TZID:America/Chicago
BEGIN:DAYLIGHT
TZOFFSETFROM:-0600
TZOFFSETTO:-0500
TZNAME:CDT
DTSTART:20220313T080000
END:DAYLIGHT
BEGIN:STANDARD
TZOFFSETFROM:-0500
TZOFFSETTO:-0600
TZNAME:CST
DTSTART:20221106T070000
END:STANDARD
BEGIN:DAYLIGHT
TZOFFSETFROM:-0600
TZOFFSETTO:-0500
TZNAME:CDT
DTSTART:20230312T080000
END:DAYLIGHT
BEGIN:STANDARD
TZOFFSETFROM:-0500
TZOFFSETTO:-0600
TZNAME:CST
DTSTART:20231105T070000
END:STANDARD
BEGIN:DAYLIGHT
TZOFFSETFROM:-0600
TZOFFSETTO:-0500
TZNAME:CDT
DTSTART:20240310T080000
END:DAYLIGHT
BEGIN:STANDARD
TZOFFSETFROM:-0500
TZOFFSETTO:-0600
TZNAME:CST
DTSTART:20241103T070000
END:STANDARD
END:VTIMEZONE
BEGIN:VEVENT
DTSTART;TZID=America/Chicago:20230405T100000
DTEND;TZID=America/Chicago:20230405T110000
DTSTAMP:20260421T070849
CREATED:20230313T195312Z
LAST-MODIFIED:20230313T195312Z
UID:11605-1680688800-1680692400@centralkansascf.org
SUMMARY:Kids FUNd Award Ceremony
DESCRIPTION:Join us for the Kids FUNd Award Ceremony on April 5\, 2023 at 10 am\, Kauffman Museum (North Newton).
URL:https://centralkansascf.org/event/kids-fund-award-ceremony/
LOCATION:Kauffman Museum\, 2801 N Main St\, North Newton\, KS\, 67117\, United States
END:VEVENT
BEGIN:VEVENT
DTSTART;TZID=America/Chicago:20230413T130000
DTEND;TZID=America/Chicago:20230413T143000
DTSTAMP:20260421T070849
CREATED:20230224T192410Z
LAST-MODIFIED:20230412T141938Z
UID:11538-1681390800-1681396200@centralkansascf.org
SUMMARY:Financial Partner Gathering
DESCRIPTION:Please Join Angie Tatro\, CEO\, Central Kansas Community Foundation and Steve Radley\, CEO\, Network Kansas as they host this gathering for the purpose of learning more about: \n\nGROW Kansas Loans\nImpact Investing\n75% Tax Credit Opportunity\nWhat your local Foundation can do for you and your clients\n\nThursday\, April 13\, 2023\n1:00 to 2:30 pm\nTrain Depot\n430 N. Main\nEl Dorado\, KS \nAdvanced Registration Appreciated \nClick Here to Register \nZoom Link: https://us02web.zoom.us/j/86206420865\nMeeting ID: 862 0642 0865
URL:https://centralkansascf.org/event/financial-partner-gathering/
LOCATION:El Dorado Train Depot\, 430 N. Main\, El Dorado\, KS\, 67042\, United States
ORGANIZER;CN="Angie Tatro%2C CEO":MAILTO:angie@centralkansascf.org
END:VEVENT
BEGIN:VEVENT
DTSTART;TZID=America/Chicago:20230421T130000
DTEND;TZID=America/Chicago:20230421T180000
DTSTAMP:20260421T070849
CREATED:20230412T142736Z
LAST-MODIFIED:20230412T142736Z
UID:11688-1682082000-1682100000@centralkansascf.org
SUMMARY:Match Day Event - Hillsboro Community Foundation
DESCRIPTION:Hillsboro Community Foundation presents a Match Day Event in partnership with Patterson Family Foundation at the Hillsboro Trinity Church on Friday\, April 21\, 2023 from 1-6 PM. Please join us!
URL:https://centralkansascf.org/event/match-day-event-hillsboro-community-foundation/
LOCATION:Trinity Mennonite Church\, 211 Elm St\, Hillsboro\, KS\, 67063\, United States
END:VEVENT
BEGIN:VEVENT
DTSTART;TZID=America/Chicago:20230429T180000
DTEND;TZID=America/Chicago:20230429T200000
DTSTAMP:20260421T070849
CREATED:20230328T144527Z
LAST-MODIFIED:20230328T144527Z
UID:11641-1682791200-1682798400@centralkansascf.org
SUMMARY:2023 Grant Awards - Goessel Community Foundation
DESCRIPTION:You are invited to a complimentary dinner to celebrate and recognize Goessel Community Foundation’s 2023 Grant Award Winners on Saturday\, April 29 at 6 PM at the Goessel Elementary School Gymnasium. Please RSVP by April 24 to goesselcommfnd@centralkansascf.edu or text/call (316) 284-1244.
URL:https://centralkansascf.org/event/2023-grant-awards-gcf/
LOCATION:Goessel Elementary School Gymnasium\, 500 E Main St\, Goessel\, KS\, 67053\, United States
END:VEVENT
END:VCALENDAR