BEGIN:VCALENDAR
VERSION:2.0
PRODID:-//Central Kansas Community Foundation - ECPv6.15.20//NONSGML v1.0//EN
CALSCALE:GREGORIAN
METHOD:PUBLISH
X-WR-CALNAME:Central Kansas Community Foundation
X-ORIGINAL-URL:https://centralkansascf.org
X-WR-CALDESC:Events for Central Kansas Community Foundation
REFRESH-INTERVAL;VALUE=DURATION:PT1H
X-Robots-Tag:noindex
X-PUBLISHED-TTL:PT1H
BEGIN:VTIMEZONE
TZID:America/Chicago
BEGIN:DAYLIGHT
TZOFFSETFROM:-0600
TZOFFSETTO:-0500
TZNAME:CDT
DTSTART:20210314T080000
END:DAYLIGHT
BEGIN:STANDARD
TZOFFSETFROM:-0500
TZOFFSETTO:-0600
TZNAME:CST
DTSTART:20211107T070000
END:STANDARD
BEGIN:DAYLIGHT
TZOFFSETFROM:-0600
TZOFFSETTO:-0500
TZNAME:CDT
DTSTART:20220313T080000
END:DAYLIGHT
BEGIN:STANDARD
TZOFFSETFROM:-0500
TZOFFSETTO:-0600
TZNAME:CST
DTSTART:20221106T070000
END:STANDARD
BEGIN:DAYLIGHT
TZOFFSETFROM:-0600
TZOFFSETTO:-0500
TZNAME:CDT
DTSTART:20230312T080000
END:DAYLIGHT
BEGIN:STANDARD
TZOFFSETFROM:-0500
TZOFFSETTO:-0600
TZNAME:CST
DTSTART:20231105T070000
END:STANDARD
END:VTIMEZONE
BEGIN:VEVENT
DTSTART;TZID=America/Chicago:20221111T120000
DTEND;TZID=America/Chicago:20221111T130000
DTSTAMP:20260421T141611
CREATED:20211219T052405Z
LAST-MODIFIED:20211219T052405Z
UID:10278-1668168000-1668171600@centralkansascf.org
SUMMARY:Building Stronger Communities - Central Kansas Community Conversation
DESCRIPTION:Zoom Link: Click Here\nMeeting ID: 813 8703 1526\nPasscode: 261717
URL:https://centralkansascf.org/event/building-stronger-communities-central-kansas-community-conversation-3/
CATEGORIES:Central Kansas Community Conversation
ORGANIZER;CN="Angie Tatro%2C CEO":MAILTO:angie@centralkansascf.org
END:VEVENT
BEGIN:VEVENT
DTSTART;TZID=America/Chicago:20221111T190000
DTEND;TZID=America/Chicago:20221111T220000
DTSTAMP:20260421T141611
CREATED:20221012T032437Z
LAST-MODIFIED:20221012T032914Z
UID:11087-1668193200-1668204000@centralkansascf.org
SUMMARY:Casino Party - Hesston Community Foundation
DESCRIPTION:Here’s the deal – we’re hosting a Casino Party! Join us on Friday\, November 11 from 7:00-10:00 PM for casino games\, music\, silent auction\, heavy hors d’oeuvres\, drinks\, and fun — all benefiting the Hesston Community Foundation. Please reserve your tickets by Wednesday\, November 2 at bit.ly/hcf-dealmein. \nEvent Poster: Hesston Community Foundation Casino Party
URL:https://centralkansascf.org/event/casino-party-hesston-community-foundation/
LOCATION:Son Wray Ranch\, 5420 NW 24th Street\, Newton\, KS\, 67114\, United States
END:VEVENT
BEGIN:VEVENT
DTSTART;TZID=America/Chicago:20221119T170000
DTEND;TZID=America/Chicago:20221119T200000
DTSTAMP:20260421T141611
CREATED:20221028T002904Z
LAST-MODIFIED:20221110T165322Z
UID:11151-1668877200-1668888000@centralkansascf.org
SUMMARY:Pie Auction – Halstead Community Foundation
DESCRIPTION:
URL:https://centralkansascf.org/event/pie-auction-halstead-community-foundation/
LOCATION:Halstead High School\, 521 W 6th St\, Halstead\, KS\, 67056\, United States
CATEGORIES:Giving Tuesday
END:VEVENT
BEGIN:VEVENT
DTSTART;TZID=America/Chicago:20221122T183000
DTEND;TZID=America/Chicago:20221122T203000
DTSTAMP:20260421T141611
CREATED:20221028T003026Z
LAST-MODIFIED:20221028T003026Z
UID:11154-1669141800-1669149000@centralkansascf.org
SUMMARY:Pie Auction – Valley Center Community Foundation
DESCRIPTION:
URL:https://centralkansascf.org/event/pie-auction-valley-center-community-foundation/
LOCATION:LeVenue\, 109 W Main Street\, Valley Center\, KS\, 67147\, United States
CATEGORIES:Giving Tuesday
END:VEVENT
BEGIN:VEVENT
DTSTART;TZID=America/Chicago:20221122T183000
DTEND;TZID=America/Chicago:20221122T203000
DTSTAMP:20260421T141611
CREATED:20221028T003111Z
LAST-MODIFIED:20221028T010526Z
UID:11157-1669141800-1669149000@centralkansascf.org
SUMMARY:Pie Auction – Peabody Community Foundation
DESCRIPTION:
URL:https://centralkansascf.org/event/pie-auction-peabody-community-foundation/
LOCATION:Peabody Senior Citizens’ Center\, 106 N Walnut\, Peabody\, KS\, 66866\, United States
CATEGORIES:Giving Tuesday
END:VEVENT
BEGIN:VEVENT
DTSTART;TZID=America/Chicago:20221128T113000
DTEND;TZID=America/Chicago:20221128T133000
DTSTAMP:20260421T141611
CREATED:20221109T213849Z
LAST-MODIFIED:20221109T213948Z
UID:11203-1669635000-1669642200@centralkansascf.org
SUMMARY:Giving Tuesday - Women's Community Foundation
DESCRIPTION:Join the Women’s Community Foundation on #GivingTuesday Eve\, Monday\, November 28\, from 11:30 am – 1:30 pm to celebrate the 2022 grant awards at Newton Recreation Center.  Finger foods will be served.
URL:https://centralkansascf.org/event/giving-tuesday-womens-community-foundation-2/
LOCATION:Newton Recreation Center\, 415 N Poplar Street\, Newton\, KS\, 67114\, United States
CATEGORIES:Giving Tuesday
END:VEVENT
BEGIN:VEVENT
DTSTART;TZID=America/Chicago:20221129T100000
DTEND;TZID=America/Chicago:20221129T140000
DTSTAMP:20260421T141611
CREATED:20221028T011120Z
LAST-MODIFIED:20221028T011953Z
UID:11165-1669716000-1669730400@centralkansascf.org
SUMMARY:Giving Tuesday – Remington Area Community Foundation
DESCRIPTION:Support Remington Area Community Foundation’s “Fairy Godmother Fund” this #Giving Tuesday. Stop by the Whitewater Library between 10:00 am and 2:00 pm to learn more about how your contributions will give assistance to students through USD 206.
URL:https://centralkansascf.org/event/giving-tuesday-remington-area-community-foundation-2/
LOCATION:Whitewater Memorial Library\, 118 East Topeka\, Whitewater\, KS\, 67154\, United States
CATEGORIES:Giving Tuesday
END:VEVENT
BEGIN:VEVENT
DTSTART;TZID=America/Chicago:20221129T100000
DTEND;TZID=America/Chicago:20221129T140000
DTSTAMP:20260421T141611
CREATED:20221028T165420Z
LAST-MODIFIED:20221110T211819Z
UID:11186-1669716000-1669730400@centralkansascf.org
SUMMARY:Together We Give - CKCF Giving Tuesday
DESCRIPTION:Join us on Tuesday\, November 29 between 10:00 am and 2:00 pm to celebrate Central Kansas Community Foundation on #GivingTuesday. Stop by Prairy Mezzanine Event Space (104 West 6th St. Newton\, KS) to connect and enjoy light refreshments.
URL:https://centralkansascf.org/event/together-we-give-ckcf-giving-tuesday/
LOCATION:Prairy Market & Deli Mezzanine\, 601 N Main Street\, Newton\, KS\, 67114\, United States
CATEGORIES:Giving Tuesday
END:VEVENT
BEGIN:VEVENT
DTSTART;TZID=America/Chicago:20221129T170000
DTEND;TZID=America/Chicago:20221129T190000
DTSTAMP:20260421T141611
CREATED:20221028T011328Z
LAST-MODIFIED:20221028T011328Z
UID:11167-1669741200-1669748400@centralkansascf.org
SUMMARY:Giving Tuesday – Peabody Community Foundation
DESCRIPTION:Peabody Community Foundation is partnering with USD 398 to host #GivingTuesday from 5:00-7:00 pm at the high school. Stop by to learn more about local charities and enjoy a soup supper provided by school clubs. Thank you for your support!
URL:https://centralkansascf.org/event/giving-tuesday-peabody-community-foundation/
LOCATION:Peabody Burns High School\, 506 Elm Street\, Peabody\, KS\, 66866\, United States
CATEGORIES:Giving Tuesday
END:VEVENT
BEGIN:VEVENT
DTSTART;TZID=America/Chicago:20221129T170000
DTEND;TZID=America/Chicago:20221129T190000
DTSTAMP:20260421T141611
CREATED:20221028T011818Z
LAST-MODIFIED:20221123T042854Z
UID:11172-1669741200-1669748400@centralkansascf.org
SUMMARY:Giving Tuesday - Goessel Community Foundation
DESCRIPTION:Goessel Community Foundation will be hosting a #GivingTuesday event at the Goessel Community Center from 5:00-7:00 pm. Join us in celebrating how we give back to our community! Snacks provided.
URL:https://centralkansascf.org/event/giving-tuesday-goessel-community-foundation-2/
LOCATION:Goessel Community Center\, 101 S Cedar\, Goessel\, KS\, 67053\, United States
CATEGORIES:Giving Tuesday
END:VEVENT
BEGIN:VEVENT
DTSTART;TZID=America/Chicago:20221129T173000
DTEND;TZID=America/Chicago:20221129T190000
DTSTAMP:20260421T141611
CREATED:20221028T011608Z
LAST-MODIFIED:20221028T011608Z
UID:11169-1669743000-1669748400@centralkansascf.org
SUMMARY:Giving Tuesday – Hillsboro Community Foundation
DESCRIPTION:Stop by the Rhubarb Market from 5:30-7:00 pm to support Hillsboro Community Foundation this #GivingTuesday! Snacks provided.
URL:https://centralkansascf.org/event/giving-tuesday-hillsboro-community-foundation-2/
LOCATION:Rhubarb Market\, 104 S Main St\, Hillsboro\, KS\, 67063\, United States
CATEGORIES:Giving Tuesday
END:VEVENT
END:VCALENDAR