BEGIN:VCALENDAR
VERSION:2.0
PRODID:-//Central Kansas Community Foundation - ECPv6.15.20//NONSGML v1.0//EN
CALSCALE:GREGORIAN
METHOD:PUBLISH
X-WR-CALNAME:Central Kansas Community Foundation
X-ORIGINAL-URL:https://centralkansascf.org
X-WR-CALDESC:Events for Central Kansas Community Foundation
REFRESH-INTERVAL;VALUE=DURATION:PT1H
X-Robots-Tag:noindex
X-PUBLISHED-TTL:PT1H
BEGIN:VTIMEZONE
TZID:America/Chicago
BEGIN:DAYLIGHT
TZOFFSETFROM:-0600
TZOFFSETTO:-0500
TZNAME:CDT
DTSTART:20210314T080000
END:DAYLIGHT
BEGIN:STANDARD
TZOFFSETFROM:-0500
TZOFFSETTO:-0600
TZNAME:CST
DTSTART:20211107T070000
END:STANDARD
BEGIN:DAYLIGHT
TZOFFSETFROM:-0600
TZOFFSETTO:-0500
TZNAME:CDT
DTSTART:20220313T080000
END:DAYLIGHT
BEGIN:STANDARD
TZOFFSETFROM:-0500
TZOFFSETTO:-0600
TZNAME:CST
DTSTART:20221106T070000
END:STANDARD
BEGIN:DAYLIGHT
TZOFFSETFROM:-0600
TZOFFSETTO:-0500
TZNAME:CDT
DTSTART:20230312T080000
END:DAYLIGHT
BEGIN:STANDARD
TZOFFSETFROM:-0500
TZOFFSETTO:-0600
TZNAME:CST
DTSTART:20231105T070000
END:STANDARD
END:VTIMEZONE
BEGIN:VEVENT
DTSTART;TZID=America/Chicago:20220812T120000
DTEND;TZID=America/Chicago:20220812T130000
DTSTAMP:20260421T184750
CREATED:20211219T052104Z
LAST-MODIFIED:20211219T052114Z
UID:10276-1660305600-1660309200@centralkansascf.org
SUMMARY:Building Stronger Communities - Central Kansas Community Conversation
DESCRIPTION:Zoom Link: Click Here\nMeeting ID: 836 8795 3066\nPasscode: 924275
URL:https://centralkansascf.org/event/building-stronger-communities-central-kansas-community-conversation-2/
CATEGORIES:Central Kansas Community Conversation
ORGANIZER;CN="Angie Tatro%2C CEO":MAILTO:angie@centralkansascf.org
END:VEVENT
BEGIN:VEVENT
DTSTART;TZID=America/Chicago:20220813T070000
DTEND;TZID=America/Chicago:20220813T110000
DTSTAMP:20260421T184750
CREATED:20220729T003752Z
LAST-MODIFIED:20220729T004305Z
UID:10924-1660374000-1660388400@centralkansascf.org
SUMMARY:Peabody CF - Pancake Breakfast
DESCRIPTION:Peabody Community Foundation will be serving breakfast of pancakes and Peabody Sausage House sausage for donation at the Peabody Senior Center\, 106 N. Walnut\, Peabody. For those 14 and under\, That Flippin’ Pancake Race will begin at 10:00 AM. Participants are invited to bring their own skillet and be prepared to race outside\, skillet in hand. The race is free! Back-to-school themed prizes will be awarded to the winners! Participants must have a release of liability form signed by a parent or guardian\, available day of the race.
URL:https://centralkansascf.org/event/peabody-cf-pancake-breakfast/
LOCATION:Peabody Senior Citizens’ Center\, 106 N Walnut\, Peabody\, KS\, 66866\, United States
END:VEVENT
BEGIN:VEVENT
DTSTART;TZID=America/Chicago:20220814T120000
DTEND;TZID=America/Chicago:20220814T140000
DTSTAMP:20260421T184750
CREATED:20220729T004156Z
LAST-MODIFIED:20220729T004156Z
UID:10928-1660478400-1660485600@centralkansascf.org
SUMMARY:Halstead CF - Ice Cream Social
DESCRIPTION:Halstead Community Foundation will be hosting a free Ice Cream\nSocial at the Halstead Old Settler Days Festival at Riverside Park on KS-89 Halstead.
URL:https://centralkansascf.org/event/halstead-cf-ice-cream-social/
LOCATION:Riverside Park\, KS-89\, Halstead\, KS\, 67056\, United States
END:VEVENT
BEGIN:VEVENT
DTSTART;TZID=America/Chicago:20220827T093000
DTEND;TZID=America/Chicago:20220827T133000
DTSTAMP:20260421T184750
CREATED:20220529T030305Z
LAST-MODIFIED:20220720T183219Z
UID:10839-1661592600-1661607000@centralkansascf.org
SUMMARY:Disaster "Be Ready - Be Resilient" Summit
DESCRIPTION:Cari Cullen\, Director\, Midwest Early Recovery Fund\nCenter for Disaster Philanthropy \nJeff Koller\,  Regional Operations Coordinator\nMennonite Disaster Service \nJulie Stimson\, Director\nSedgwick County Emergency Management \n  \nSaturday\, August 27\, 2022\n9:30am – 1:30pm\nButler Community College\nHubbard Welcome Center\, 901 S Haverhill Rd\, El Dorado\, KS \n  \nFor more information and to register\, visit centralkansascf.org/disastersupport \n 
URL:https://centralkansascf.org/event/disaster-be-ready-be-resilient-summit/
LOCATION:Butler Community College\, 901 S Haverhill Rd\, El Dorado\, KS\, 67042\, United States
END:VEVENT
BEGIN:VEVENT
DTSTART;TZID=America/Chicago:20220831T120000
DTEND;TZID=America/Chicago:20220831T130000
DTSTAMP:20260421T184750
CREATED:20220828T023426Z
LAST-MODIFIED:20220828T023617Z
UID:11003-1661947200-1661950800@centralkansascf.org
SUMMARY:Invest Central Kansas - Informational Opportunity
DESCRIPTION:Invest Central Kansas Program Readiness! The Invest Central Kansas Committee is hosting a Zoom informational opportunity on August 31st at noon to kick off the Invest Central Kansas program. \nJoin us to learn more about guideline adjustments we are making and reacquaint yourselves with how to help your local community identify appropriate candidates for this program. \nZoom Link: Click Here\nMeeting ID: 825 0661 5810\nPasscode: 191057
URL:https://centralkansascf.org/event/invest-central-kansas-informational-opportunity/
END:VEVENT
END:VCALENDAR