BEGIN:VCALENDAR
VERSION:2.0
PRODID:-//Central Kansas Community Foundation - ECPv6.15.20//NONSGML v1.0//EN
CALSCALE:GREGORIAN
METHOD:PUBLISH
X-ORIGINAL-URL:https://centralkansascf.org
X-WR-CALDESC:Events for Central Kansas Community Foundation
REFRESH-INTERVAL;VALUE=DURATION:PT1H
X-Robots-Tag:noindex
X-PUBLISHED-TTL:PT1H
BEGIN:VTIMEZONE
TZID:America/Chicago
BEGIN:DAYLIGHT
TZOFFSETFROM:-0600
TZOFFSETTO:-0500
TZNAME:CDT
DTSTART:20210314T080000
END:DAYLIGHT
BEGIN:STANDARD
TZOFFSETFROM:-0500
TZOFFSETTO:-0600
TZNAME:CST
DTSTART:20211107T070000
END:STANDARD
BEGIN:DAYLIGHT
TZOFFSETFROM:-0600
TZOFFSETTO:-0500
TZNAME:CDT
DTSTART:20220313T080000
END:DAYLIGHT
BEGIN:STANDARD
TZOFFSETFROM:-0500
TZOFFSETTO:-0600
TZNAME:CST
DTSTART:20221106T070000
END:STANDARD
BEGIN:DAYLIGHT
TZOFFSETFROM:-0600
TZOFFSETTO:-0500
TZNAME:CDT
DTSTART:20230312T080000
END:DAYLIGHT
BEGIN:STANDARD
TZOFFSETFROM:-0500
TZOFFSETTO:-0600
TZNAME:CST
DTSTART:20231105T070000
END:STANDARD
END:VTIMEZONE
BEGIN:VEVENT
DTSTART;VALUE=DATE:20220713
DTEND;VALUE=DATE:20220720
DTSTAMP:20260421T201933
CREATED:20211219T054152Z
LAST-MODIFIED:20211219T054152Z
UID:10298-1657670400-1658275199@centralkansascf.org
SUMMARY:Sky's the Limit Online Auction
DESCRIPTION:Save the date! More info coming soon.
URL:https://centralkansascf.org/event/skys-the-limit-online-auction/
ORGANIZER;CN="Angie Tatro%2C CEO":MAILTO:angie@centralkansascf.org
END:VEVENT
BEGIN:VEVENT
DTSTART;TZID=America/Chicago:20220719T120000
DTEND;TZID=America/Chicago:20220719T130000
DTSTAMP:20260421T201933
CREATED:20211219T054003Z
LAST-MODIFIED:20220126T150213Z
UID:10294-1658232000-1658235600@centralkansascf.org
SUMMARY:New Board Member Orientation
DESCRIPTION:This orientation is being provided by Central Kansas Community Foundation (CKCF) as an introduction to CKCF and their role as host foundation along with the affiliate service model. 19 affiliate foundation are under the umbrella of CKCF and have local advisory boards. This orientation will bring clarity to this role and welcome to the local work of philanthropy in central Kansas. \nZoom Link: Click Here\nMeeting ID: 846 0349 0119\nPasscode: 060671
URL:https://centralkansascf.org/event/new-board-member-orientation-3/
ORGANIZER;CN="Angie Tatro%2C CEO":MAILTO:angie@centralkansascf.org
END:VEVENT
BEGIN:VEVENT
DTSTART;TZID=America/Chicago:20220720T120000
DTEND;TZID=America/Chicago:20220720T130000
DTSTAMP:20260421T201933
CREATED:20211219T053019Z
LAST-MODIFIED:20211219T053046Z
UID:10285-1658318400-1658322000@centralkansascf.org
SUMMARY:State of the Foundation
DESCRIPTION:Please join to learn more about the state of our foundation and our vision for the future from an operational and financial perspective. All are welcome. \nZoom Link: Click Here\nMeeting ID: 823 8543 7747\nPasscode: 061173
URL:https://centralkansascf.org/event/state-of-the-foundation-2/
ORGANIZER;CN="Angie Tatro%2C CEO":MAILTO:angie@centralkansascf.org
END:VEVENT
END:VCALENDAR