BEGIN:VCALENDAR
VERSION:2.0
PRODID:-//Central Kansas Community Foundation - ECPv6.15.20//NONSGML v1.0//EN
CALSCALE:GREGORIAN
METHOD:PUBLISH
X-ORIGINAL-URL:https://centralkansascf.org
X-WR-CALDESC:Events for Central Kansas Community Foundation
REFRESH-INTERVAL;VALUE=DURATION:PT1H
X-Robots-Tag:noindex
X-PUBLISHED-TTL:PT1H
BEGIN:VTIMEZONE
TZID:America/Chicago
BEGIN:DAYLIGHT
TZOFFSETFROM:-0600
TZOFFSETTO:-0500
TZNAME:CDT
DTSTART:20210314T080000
END:DAYLIGHT
BEGIN:STANDARD
TZOFFSETFROM:-0500
TZOFFSETTO:-0600
TZNAME:CST
DTSTART:20211107T070000
END:STANDARD
BEGIN:DAYLIGHT
TZOFFSETFROM:-0600
TZOFFSETTO:-0500
TZNAME:CDT
DTSTART:20220313T080000
END:DAYLIGHT
BEGIN:STANDARD
TZOFFSETFROM:-0500
TZOFFSETTO:-0600
TZNAME:CST
DTSTART:20221106T070000
END:STANDARD
BEGIN:DAYLIGHT
TZOFFSETFROM:-0600
TZOFFSETTO:-0500
TZNAME:CDT
DTSTART:20230312T080000
END:DAYLIGHT
BEGIN:STANDARD
TZOFFSETFROM:-0500
TZOFFSETTO:-0600
TZNAME:CST
DTSTART:20231105T070000
END:STANDARD
END:VTIMEZONE
BEGIN:VEVENT
DTSTART;TZID=America/Chicago:20220303T100000
DTEND;TZID=America/Chicago:20220303T140000
DTSTAMP:20260422T021522
CREATED:20211219T053418Z
LAST-MODIFIED:20220207T155215Z
UID:10288-1646301600-1646316000@centralkansascf.org
SUMMARY:Invest Central Kansas - CKCF Affiliate Summit
DESCRIPTION:REGISTRATION LINK: https://ckcf.wufoo.com/forms/m10tda0g1x9f9ne/
URL:https://centralkansascf.org/event/ckcf-affiliate-summit-invest-central-kansas/
ORGANIZER;CN="Angie Tatro%2C CEO":MAILTO:angie@centralkansascf.org
END:VEVENT
BEGIN:VEVENT
DTSTART;TZID=America/Chicago:20220316T120000
DTEND;TZID=America/Chicago:20220316T130000
DTSTAMP:20260422T021522
CREATED:20211219T052832Z
LAST-MODIFIED:20211219T052832Z
UID:10282-1647432000-1647435600@centralkansascf.org
SUMMARY:State of the Foundation
DESCRIPTION:Angie Tatro\, CEO of Central Kansas Community Foundation\, will provide a State of the Foundation address of current events and statistics. CKCF’s Primary Investment Manager\, Graystone Consulting\, will provide a report on the investment pool and also share market considerations. Please join to learn more about our vision for the future from an operational and financial perspective. All are welcome. \nZoom Link: Click Here\nMeeting ID: 859 7673 8621\nPasscode: 890368
URL:https://centralkansascf.org/event/state-of-the-foundation/
ORGANIZER;CN="Angie Tatro%2C CEO":MAILTO:angie@centralkansascf.org
END:VEVENT
END:VCALENDAR