BEGIN:VCALENDAR
VERSION:2.0
PRODID:-//Central Kansas Community Foundation - ECPv6.15.20//NONSGML v1.0//EN
CALSCALE:GREGORIAN
METHOD:PUBLISH
X-WR-CALNAME:Central Kansas Community Foundation
X-ORIGINAL-URL:https://centralkansascf.org
X-WR-CALDESC:Events for Central Kansas Community Foundation
REFRESH-INTERVAL;VALUE=DURATION:PT1H
X-Robots-Tag:noindex
X-PUBLISHED-TTL:PT1H
BEGIN:VTIMEZONE
TZID:America/Chicago
BEGIN:DAYLIGHT
TZOFFSETFROM:-0600
TZOFFSETTO:-0500
TZNAME:CDT
DTSTART:20220313T080000
END:DAYLIGHT
BEGIN:STANDARD
TZOFFSETFROM:-0500
TZOFFSETTO:-0600
TZNAME:CST
DTSTART:20221106T070000
END:STANDARD
BEGIN:DAYLIGHT
TZOFFSETFROM:-0600
TZOFFSETTO:-0500
TZNAME:CDT
DTSTART:20230312T080000
END:DAYLIGHT
BEGIN:STANDARD
TZOFFSETFROM:-0500
TZOFFSETTO:-0600
TZNAME:CST
DTSTART:20231105T070000
END:STANDARD
BEGIN:DAYLIGHT
TZOFFSETFROM:-0600
TZOFFSETTO:-0500
TZNAME:CDT
DTSTART:20240310T080000
END:DAYLIGHT
BEGIN:STANDARD
TZOFFSETFROM:-0500
TZOFFSETTO:-0600
TZNAME:CST
DTSTART:20241103T070000
END:STANDARD
END:VTIMEZONE
BEGIN:VEVENT
DTSTART;VALUE=DATE:20230512
DTEND;VALUE=DATE:20230720
DTSTAMP:20260421T034605
CREATED:20230526T215100Z
LAST-MODIFIED:20230703T194603Z
UID:11873-1683849600-1689811199@centralkansascf.org
SUMMARY:Match Campaign - Florence Community Foundation
DESCRIPTION:From May 12 – July 19\, make your gift count in support of Florence Community Foundation! For details on how to participate in this match opportunity\, see the event poster below. Thank you! \nClick here to donate online
URL:https://centralkansascf.org/event/match-campaign-florence-community-foundation/
CATEGORIES:Patterson Family Match
END:VEVENT
BEGIN:VEVENT
DTSTART;VALUE=DATE:20230601
DTEND;VALUE=DATE:20230701
DTSTAMP:20260421T034605
CREATED:20230523T013133Z
LAST-MODIFIED:20230531T142132Z
UID:11811-1685577600-1688169599@centralkansascf.org
SUMMARY:Elk County Rural Community Match Fund - Elk County Community Foundation
DESCRIPTION:Support Elk County Community Foundation’s first event for the Patterson Family Matching Funds from June 1 -30\, 2023. \nContributions will go to a special fund\, Elk County Rural Community Match Fund. Proceeds following the campaign will be distributed for community impact across six communities in Elk County. Ten cents of every dollar of matching funds will go to ECCF Operating Fund.
URL:https://centralkansascf.org/event/elk-county-rural-community-match-fund/
CATEGORIES:Patterson Family Match
END:VEVENT
BEGIN:VEVENT
DTSTART;TZID=America/Chicago:20230625T130000
DTEND;TZID=America/Chicago:20230625T180000
DTSTAMP:20260421T034605
CREATED:20230517T205420Z
LAST-MODIFIED:20230523T013233Z
UID:11731-1687698000-1687716000@centralkansascf.org
SUMMARY:Charity Golf Tournament - Hesston Community Foundation
DESCRIPTION:Register by Thursday\, June 22 at bit.ly/hcfgolf \n \n$100 per player | $400 per team | Scramble format \n\nTeam Registration Price Includes: Cart\, featuring updated technology\, range balls\, boxed meal\, prizes \nAdditional Options Include: Player Pack ($50\, includes raffle tickets\, mulligans\, and more) and Hole Sponsorship ($50 with team registration\, includes GPS ad on the cards) \nContact Us! Keegan LeFevre\, 620-217-1095; Rick Toews\, 316-215-1913 \nMatching funds are graciously granted to Hesston Community Foundation (HCF) from the Patterson Family Foundation. The full amount of your golf team registration and donations to your selected fund will be matched 50 cents on the dollar\, up to $70\,000 for that fund. The remaining 50 cents on the dollar will support the HCF operating fund and the investment we make in the Hesston community. \nHCF is an affiliate of CKCF. Hole sponsorship and $56 per tournament registration is tax-deductible. \n\n\nThis event and more are part of the Summer Matching Funds Campaign from June 25-July 2.\nLet’s raise $70\,000 to meet the matching funds gifted by the Patterson Family Foundation.
URL:https://centralkansascf.org/event/charity-golf-tournament-hesston-community-foundation/
LOCATION:Hesston Golf Course\, 520 Yost Dr\, Hesston\, KS\, 67062\, United States
CATEGORIES:Patterson Family Match
END:VEVENT
END:VCALENDAR