BEGIN:VCALENDAR
VERSION:2.0
PRODID:-//Central Kansas Community Foundation - ECPv6.15.20//NONSGML v1.0//EN
CALSCALE:GREGORIAN
METHOD:PUBLISH
X-WR-CALNAME:Central Kansas Community Foundation
X-ORIGINAL-URL:https://centralkansascf.org
X-WR-CALDESC:Events for Central Kansas Community Foundation
REFRESH-INTERVAL;VALUE=DURATION:PT1H
X-Robots-Tag:noindex
X-PUBLISHED-TTL:PT1H
BEGIN:VTIMEZONE
TZID:America/Chicago
BEGIN:DAYLIGHT
TZOFFSETFROM:-0600
TZOFFSETTO:-0500
TZNAME:CDT
DTSTART:20220313T080000
END:DAYLIGHT
BEGIN:STANDARD
TZOFFSETFROM:-0500
TZOFFSETTO:-0600
TZNAME:CST
DTSTART:20221106T070000
END:STANDARD
BEGIN:DAYLIGHT
TZOFFSETFROM:-0600
TZOFFSETTO:-0500
TZNAME:CDT
DTSTART:20230312T080000
END:DAYLIGHT
BEGIN:STANDARD
TZOFFSETFROM:-0500
TZOFFSETTO:-0600
TZNAME:CST
DTSTART:20231105T070000
END:STANDARD
BEGIN:DAYLIGHT
TZOFFSETFROM:-0600
TZOFFSETTO:-0500
TZNAME:CDT
DTSTART:20240310T080000
END:DAYLIGHT
BEGIN:STANDARD
TZOFFSETFROM:-0500
TZOFFSETTO:-0600
TZNAME:CST
DTSTART:20241103T070000
END:STANDARD
END:VTIMEZONE
BEGIN:VEVENT
DTSTART;VALUE=DATE:20230512
DTEND;VALUE=DATE:20230720
DTSTAMP:20260421T002931
CREATED:20230526T215100Z
LAST-MODIFIED:20230703T194603Z
UID:11873-1683849600-1689811199@centralkansascf.org
SUMMARY:Match Campaign - Florence Community Foundation
DESCRIPTION:From May 12 – July 19\, make your gift count in support of Florence Community Foundation! For details on how to participate in this match opportunity\, see the event poster below. Thank you! \nClick here to donate online
URL:https://centralkansascf.org/event/match-campaign-florence-community-foundation/
CATEGORIES:Patterson Family Match
END:VEVENT
BEGIN:VEVENT
DTSTART;VALUE=DATE:20230702
DTEND;VALUE=DATE:20230703
DTSTAMP:20260421T002931
CREATED:20230517T210201Z
LAST-MODIFIED:20230523T013322Z
UID:11742-1688256000-1688342399@centralkansascf.org
SUMMARY:Dine to Donate - Hesston Community Foundation
DESCRIPTION:Dine out on Sunday\, July 2 to support Hesston Community Foundation! Local restaurants will donate 10% of the proceeds to the foundation. \nThis event and more are part of the Summer Matching Funds Campaign from June 25-July 2. Let’s raise $70\,000 to meet the matching funds gifted by the Patterson Family Foundation.
URL:https://centralkansascf.org/event/dine-to-donate-hesston-community-foundation/
CATEGORIES:Patterson Family Match
END:VEVENT
END:VCALENDAR