BEGIN:VCALENDAR
VERSION:2.0
PRODID:-//Central Kansas Community Foundation - ECPv6.15.20//NONSGML v1.0//EN
CALSCALE:GREGORIAN
METHOD:PUBLISH
X-ORIGINAL-URL:https://centralkansascf.org
X-WR-CALDESC:Events for Central Kansas Community Foundation
REFRESH-INTERVAL;VALUE=DURATION:PT1H
X-Robots-Tag:noindex
X-PUBLISHED-TTL:PT1H
BEGIN:VTIMEZONE
TZID:America/Chicago
BEGIN:DAYLIGHT
TZOFFSETFROM:-0600
TZOFFSETTO:-0500
TZNAME:CDT
DTSTART:20220313T080000
END:DAYLIGHT
BEGIN:STANDARD
TZOFFSETFROM:-0500
TZOFFSETTO:-0600
TZNAME:CST
DTSTART:20221106T070000
END:STANDARD
BEGIN:DAYLIGHT
TZOFFSETFROM:-0600
TZOFFSETTO:-0500
TZNAME:CDT
DTSTART:20230312T080000
END:DAYLIGHT
BEGIN:STANDARD
TZOFFSETFROM:-0500
TZOFFSETTO:-0600
TZNAME:CST
DTSTART:20231105T070000
END:STANDARD
BEGIN:DAYLIGHT
TZOFFSETFROM:-0600
TZOFFSETTO:-0500
TZNAME:CDT
DTSTART:20240310T080000
END:DAYLIGHT
BEGIN:STANDARD
TZOFFSETFROM:-0500
TZOFFSETTO:-0600
TZNAME:CST
DTSTART:20241103T070000
END:STANDARD
BEGIN:DAYLIGHT
TZOFFSETFROM:-0600
TZOFFSETTO:-0500
TZNAME:CDT
DTSTART:20250309T080000
END:DAYLIGHT
BEGIN:STANDARD
TZOFFSETFROM:-0500
TZOFFSETTO:-0600
TZNAME:CST
DTSTART:20251102T070000
END:STANDARD
BEGIN:DAYLIGHT
TZOFFSETFROM:-0600
TZOFFSETTO:-0500
TZNAME:CDT
DTSTART:20260308T080000
END:DAYLIGHT
BEGIN:STANDARD
TZOFFSETFROM:-0500
TZOFFSETTO:-0600
TZNAME:CST
DTSTART:20261101T070000
END:STANDARD
END:VTIMEZONE
BEGIN:VEVENT
DTSTART;VALUE=DATE:20231128
DTEND;VALUE=DATE:20231129
DTSTAMP:20260421T173705
CREATED:20230111T182409Z
LAST-MODIFIED:20230111T182409Z
UID:11358-1701129600-1701215999@centralkansascf.org
SUMMARY:Giving Tuesday
DESCRIPTION:Tuesday\, November 28\, 2023 is #GivingTuesday! Stay tuned for ways to support CKCF and its affiliates. We are grateful for the ways that you help us build stronger communities through charitable giving. Thank you!
URL:https://centralkansascf.org/event/giving-tuesday/
CATEGORIES:Giving Tuesday
END:VEVENT
BEGIN:VEVENT
DTSTART;VALUE=DATE:20231128
DTEND;VALUE=DATE:20231129
DTSTAMP:20260421T173705
CREATED:20231117T202827Z
LAST-MODIFIED:20231117T202827Z
UID:12396-1701129600-1701215999@centralkansascf.org
SUMMARY:Giving Tuesday - Remington Area Community Foundation
DESCRIPTION:Remington Area Community Foundation invites you to a Giving Tuesday donation opportunity benefiting Whitewater and Potwin Food Banks! Click here to donate!
URL:https://centralkansascf.org/event/giving-tuesday-remington-area-community-foundation-3/
CATEGORIES:Giving Tuesday
END:VEVENT
BEGIN:VEVENT
DTSTART;VALUE=DATE:20231128
DTEND;VALUE=DATE:20231129
DTSTAMP:20260421T173705
CREATED:20231117T203048Z
LAST-MODIFIED:20231120T180236Z
UID:12398-1701129600-1701215999@centralkansascf.org
SUMMARY:Giving Tuesday - Hesston Community Foundation
DESCRIPTION:Support Hesston Community Foundation this Giving Tuesday by visiting Lincoln Perk Coffee Shop.
URL:https://centralkansascf.org/event/giving-tuesday-hesston-community-foundation/
LOCATION:Lincoln Perk\, 709 E Lincoln Blvd #100\, Hesston\, KS\, 67062\, United States
CATEGORIES:Giving Tuesday
END:VEVENT
BEGIN:VEVENT
DTSTART;TZID=America/Chicago:20231128T100000
DTEND;TZID=America/Chicago:20231128T140000
DTSTAMP:20260421T173705
CREATED:20231024T194817Z
LAST-MODIFIED:20231120T175955Z
UID:12314-1701165600-1701180000@centralkansascf.org
SUMMARY:CKCF Giving Tuesday Open House
DESCRIPTION:You are invited to CKCF’s Giving Tuesday Open House on November 28\, join us from 10 am – 2 pm at our new office location (400 S Main\, Suite 100\, Newton\, KS 67114). Holiday treats provided! At 10:30 am\, we will have a special ribbon cutting ceremony with Newton Chamber of Commerce. We hope to see you there! \n\nFrom November 1-30\, CKCF is hosting their Patterson Family Match Event. Consider supporting funds outside our other affiliates that fall under CKCF management. Contributions during this month-long event will be matched to reach our goal of $70\,000. In addition to supporting the fund\, a portion of your gift will support CKCF’s operations\, allowing us to better serve all our Central Kansas Service Area. Click here to view eligible funds. \nFor more information\, check out the CKCF Patterson Match Poster.
URL:https://centralkansascf.org/event/ckcf-giving-tuesday-open-house-2023/
LOCATION:Central Kansas Community Foundation\, 400 South Main St\, Suite 100\, Newton\, KS\, 67114\, United States
CATEGORIES:Giving Tuesday,Patterson Family Match
END:VEVENT
BEGIN:VEVENT
DTSTART;TZID=America/Chicago:20231128T113000
DTEND;TZID=America/Chicago:20231128T133000
DTSTAMP:20260421T173705
CREATED:20231106T170138Z
LAST-MODIFIED:20231106T170138Z
UID:12353-1701171000-1701178200@centralkansascf.org
SUMMARY:2023 Grant Awards - Women's Community Foundation
DESCRIPTION:You are invited to the Women’s Community Foundation 2023 Grant Awards on GIVING TUESDAY\, November 28 from 11:30 am – 1:30 pm. This come-and-go event will take place at Newton Recreation Center (415 N Poplar). Please RSVP to jenniferleevogts@gmail.com. See full invite below here.
URL:https://centralkansascf.org/event/2023-grant-awards-womens-community-foundation/
LOCATION:Newton Recreation Center\, 415 N Poplar Street\, Newton\, KS\, 67114\, United States
CATEGORIES:Giving Tuesday
END:VEVENT
BEGIN:VEVENT
DTSTART;TZID=America/Chicago:20231128T170000
DTEND;TZID=America/Chicago:20231128T190000
DTSTAMP:20260421T173705
CREATED:20230703T194422Z
LAST-MODIFIED:20231120T180941Z
UID:11990-1701190800-1701198000@centralkansascf.org
SUMMARY:Giving Tuesday Match Event - Goessel Community Foundation
DESCRIPTION:Support Goessel Community Foundation this Giving Tuesday! Join us at the Goessel High School gymnasium from 5:00 – 7:00 pm on Tuesday\, November 28. Funds raised will be matched by the Patterson Family Match.
URL:https://centralkansascf.org/event/giving-tuesday-match-event-goessel-community-foundation/
LOCATION:Goessel High School Gymnasium\, 100 E Main St\, Goessel\, KS\, 67053\, United States
CATEGORIES:Giving Tuesday,Patterson Family Match
END:VEVENT
BEGIN:VEVENT
DTSTART;TZID=America/Chicago:20231128T170000
DTEND;TZID=America/Chicago:20231128T210000
DTSTAMP:20260421T173705
CREATED:20230703T195040Z
LAST-MODIFIED:20231128T164705Z
UID:11998-1701190800-1701205200@centralkansascf.org
SUMMARY:Winterfest - Peabody Community Foundation
DESCRIPTION:Join us for Winterfest 2023 on Tuesday\, November 28. \n\n5-7 pm Soup supper (FREE for students taking part in Winterfest)\n5-7 pm Art Show\n5:30-6:30 pm Christmas Caroling\n6:45 pm autographs from the basketball and cheer teams\n\n… plus scrimages\, grant announcements and more! Go big blue!
URL:https://centralkansascf.org/event/winterfest-peabody-community-foundation/
LOCATION:Peabody Burns High School\, 506 Elm Street\, Peabody\, KS\, 66866\, United States
CATEGORIES:Giving Tuesday,Patterson Family Match
END:VEVENT
BEGIN:VEVENT
DTSTART;TZID=America/Chicago:20241126T183000
DTEND;TZID=America/Chicago:20241126T203000
DTSTAMP:20260421T173705
CREATED:20241022T235605Z
LAST-MODIFIED:20241030T124621Z
UID:13433-1732645800-1732653000@centralkansascf.org
SUMMARY:Peabody Community Foundation Pie Auction
DESCRIPTION:The Peabody Community Foundation is hosting its annual Pie Auction on Tuesday\, November 26 from 6:30 – 8:30pm at the Peabody Senior Center. \nThis is being held as a part of the Patterson Family Foundation match campaign where donations are matched dollar for dollar\, up to $70\,000\, between November 26 – December 26\, 2024. Matched funds will be dispersed 75% to the fund designated by the donor\, and 25% to the PCF Operating Budget.
URL:https://centralkansascf.org/event/peabody-community-foundation-pie-auction/
LOCATION:Peabody Senior Citizens’ Center\, 106 N Walnut\, Peabody\, KS\, 66866\, United States
CATEGORIES:Giving Tuesday,Patterson Family Match
END:VEVENT
BEGIN:VEVENT
DTSTART;VALUE=DATE:20241201
DTEND;VALUE=DATE:20250101
DTSTAMP:20260421T173705
CREATED:20241027T200914Z
LAST-MODIFIED:20241027T201303Z
UID:13453-1733011200-1735689599@centralkansascf.org
SUMMARY:Match Campaign - Central Kansas Community Foundation
DESCRIPTION:During December\, CKCF is hosting their Patterson Family Foundation match event. Contributions during this month-long event will be matched dollar for dollar\, up to $70\,000. Matched funds will be dispersed 60% to participating managed funds\, and 40% to the CKCF Operating Budget. \nClick here to view eligible funds.
URL:https://centralkansascf.org/event/match-campaign-central-kansas-community-foundation/
LOCATION:Central Kansas Community Foundation\, 400 South Main St\, Suite 100\, Newton\, KS\, 67114\, United States
CATEGORIES:Central Kansas Community Conversation,Giving Tuesday,Patterson Family Match
END:VEVENT
BEGIN:VEVENT
DTSTART;TZID=America/Chicago:20241203T100000
DTEND;TZID=America/Chicago:20241203T140000
DTSTAMP:20260421T173705
CREATED:20241022T010824Z
LAST-MODIFIED:20241104T222752Z
UID:13426-1733220000-1733234400@centralkansascf.org
SUMMARY:CKCF Giving Tuesday - Open House & Ribbon Cutting
DESCRIPTION:The Central Kansas Community Foundation (CKCF) will be having a Giving Tuesday event on December 3rd. An Open House will take place from 10am – 2pm\, and the Newton Chamber will be having a ribbon cutting at 10:30am celebrating our new affiliate office space (just down the hall from our main office)! Refreshments will be served. We are looking forward to seeing everyone! \nThis event is a part of the Patterson Family Foundation match campaign where donations are matched dollar for dollar\, up to $70\,000\, between December 1 – 31\, 2024. Matched funds will be dispersed 60% to participating managed funds\, and 40% to the CKCF Operating Budget. \nClick here to view eligible CKCF Funds. \n 
URL:https://centralkansascf.org/event/ckcf-giving-tuesday-open-house-ribbon-cutting/
LOCATION:Central Kansas Community Foundation\, 400 South Main St\, Suite 100\, Newton\, KS\, 67114\, United States
CATEGORIES:Giving Tuesday,Patterson Family Match
END:VEVENT
BEGIN:VEVENT
DTSTART;TZID=America/Chicago:20241203T110000
DTEND;TZID=America/Chicago:20241203T130000
DTSTAMP:20260421T173705
CREATED:20240823T150034Z
LAST-MODIFIED:20240823T150034Z
UID:13277-1733223600-1733230800@centralkansascf.org
SUMMARY:Women's Community Foundation Grant Awards & Giving Tuesday Celebration!
DESCRIPTION:The Women’s Community Foundation will be hosting their 2024 Grant Awards and having a Giving Tuesday Celebration on Tuesday\, December 3 from 11am – 1pm at the Newton Recreation Center. Join us as we recognize some wonderful organizations in our community!
URL:https://centralkansascf.org/event/womens-community-foundation-grant-awards-giving-tuesday-celebration/
LOCATION:Newton Recreation Center\, 415 N Poplar Street\, Newton\, KS\, 67114\, United States
CATEGORIES:Giving Tuesday
END:VEVENT
BEGIN:VEVENT
DTSTART;TZID=America/Chicago:20241203T170000
DTEND;TZID=America/Chicago:20241203T200000
DTSTAMP:20260421T173705
CREATED:20241022T002741Z
LAST-MODIFIED:20241027T193432Z
UID:13417-1733245200-1733256000@centralkansascf.org
SUMMARY:Hillsboro Community Foundation Giving Tuesday @ Pizza Hut
DESCRIPTION:Pizza For A Cause \nThe Hillsboro Community Foundation will be having a Giving Tuesday event at Pizza Hut on Tuesday\, December 3 from 5 – 8pm. Hillsboro Pizza Hut will be donating 20% of the sales that evening to the Hillsboro Community Foundation. Please join us for a delicious dinner and help us raise funds for our community. We hope to see you there!
URL:https://centralkansascf.org/event/hillsboro-community-foundation-giving-tuesday-pizza-hut/
LOCATION:Pizza Hut\, 903 E D St\, Hillsboro\, KS\, 67063\, United States
CATEGORIES:Giving Tuesday
END:VEVENT
BEGIN:VEVENT
DTSTART;TZID=America/Chicago:20251206T140000
DTEND;TZID=America/Chicago:20251206T210000
DTSTAMP:20260421T173705
CREATED:20241030T232216Z
LAST-MODIFIED:20251105T163226Z
UID:13472-1765029600-1765054800@centralkansascf.org
SUMMARY:Halstead Christmas Jingle
DESCRIPTION:Festive gathering for all ages to enjoy – crafts\, business open houses\, caroling\, tree lighting\, Santa visits\, Christmas light scavenger hunt\, wreath decorating contest\, toy giveaway\, and even horse-drawn carriage rides sponsored in partnership with Halstead Chamber of Commerce.
URL:https://centralkansascf.org/event/halstead-christmas-jingle/
LOCATION:Halstead Community Foundation\, 306 Main St\, Halstead\, KS\, 67056\, United States
CATEGORIES:Giving Tuesday
END:VEVENT
END:VCALENDAR