BEGIN:VCALENDAR
VERSION:2.0
PRODID:-//Central Kansas Community Foundation - ECPv6.15.20//NONSGML v1.0//EN
CALSCALE:GREGORIAN
METHOD:PUBLISH
X-ORIGINAL-URL:https://centralkansascf.org
X-WR-CALDESC:Events for Central Kansas Community Foundation
REFRESH-INTERVAL;VALUE=DURATION:PT1H
X-Robots-Tag:noindex
X-PUBLISHED-TTL:PT1H
BEGIN:VTIMEZONE
TZID:America/Chicago
BEGIN:DAYLIGHT
TZOFFSETFROM:-0600
TZOFFSETTO:-0500
TZNAME:CDT
DTSTART:20210314T080000
END:DAYLIGHT
BEGIN:STANDARD
TZOFFSETFROM:-0500
TZOFFSETTO:-0600
TZNAME:CST
DTSTART:20211107T070000
END:STANDARD
BEGIN:DAYLIGHT
TZOFFSETFROM:-0600
TZOFFSETTO:-0500
TZNAME:CDT
DTSTART:20220313T080000
END:DAYLIGHT
BEGIN:STANDARD
TZOFFSETFROM:-0500
TZOFFSETTO:-0600
TZNAME:CST
DTSTART:20221106T070000
END:STANDARD
BEGIN:DAYLIGHT
TZOFFSETFROM:-0600
TZOFFSETTO:-0500
TZNAME:CDT
DTSTART:20230312T080000
END:DAYLIGHT
BEGIN:STANDARD
TZOFFSETFROM:-0500
TZOFFSETTO:-0600
TZNAME:CST
DTSTART:20231105T070000
END:STANDARD
END:VTIMEZONE
BEGIN:VEVENT
DTSTART;TZID=America/Chicago:20221128T113000
DTEND;TZID=America/Chicago:20221128T133000
DTSTAMP:20260421T125251
CREATED:20221109T213849Z
LAST-MODIFIED:20221109T213948Z
UID:11203-1669635000-1669642200@centralkansascf.org
SUMMARY:Giving Tuesday - Women's Community Foundation
DESCRIPTION:Join the Women’s Community Foundation on #GivingTuesday Eve\, Monday\, November 28\, from 11:30 am – 1:30 pm to celebrate the 2022 grant awards at Newton Recreation Center.  Finger foods will be served.
URL:https://centralkansascf.org/event/giving-tuesday-womens-community-foundation-2/
LOCATION:Newton Recreation Center\, 415 N Poplar Street\, Newton\, KS\, 67114\, United States
CATEGORIES:Giving Tuesday
END:VEVENT
END:VCALENDAR