BEGIN:VCALENDAR
VERSION:2.0
PRODID:-//Central Kansas Community Foundation - ECPv6.15.20//NONSGML v1.0//EN
CALSCALE:GREGORIAN
METHOD:PUBLISH
X-WR-CALNAME:Central Kansas Community Foundation
X-ORIGINAL-URL:https://centralkansascf.org
X-WR-CALDESC:Events for Central Kansas Community Foundation
REFRESH-INTERVAL;VALUE=DURATION:PT1H
X-Robots-Tag:noindex
X-PUBLISHED-TTL:PT1H
BEGIN:VTIMEZONE
TZID:America/Chicago
BEGIN:DAYLIGHT
TZOFFSETFROM:-0600
TZOFFSETTO:-0500
TZNAME:CDT
DTSTART:20230312T080000
END:DAYLIGHT
BEGIN:STANDARD
TZOFFSETFROM:-0500
TZOFFSETTO:-0600
TZNAME:CST
DTSTART:20231105T070000
END:STANDARD
BEGIN:DAYLIGHT
TZOFFSETFROM:-0600
TZOFFSETTO:-0500
TZNAME:CDT
DTSTART:20240310T080000
END:DAYLIGHT
BEGIN:STANDARD
TZOFFSETFROM:-0500
TZOFFSETTO:-0600
TZNAME:CST
DTSTART:20241103T070000
END:STANDARD
BEGIN:DAYLIGHT
TZOFFSETFROM:-0600
TZOFFSETTO:-0500
TZNAME:CDT
DTSTART:20250309T080000
END:DAYLIGHT
BEGIN:STANDARD
TZOFFSETFROM:-0500
TZOFFSETTO:-0600
TZNAME:CST
DTSTART:20251102T070000
END:STANDARD
END:VTIMEZONE
BEGIN:VEVENT
DTSTART;TZID=America/Chicago:20240224T170000
DTEND;TZID=America/Chicago:20240224T190000
DTSTAMP:20260420T172124
CREATED:20240210T215720Z
LAST-MODIFIED:20240210T215720Z
UID:12630-1708794000-1708801200@centralkansascf.org
SUMMARY:Donor Appreciation Event - Halstead Community Foundation
DESCRIPTION:You are invited to the Halstead Community Foundation Donor Appreciation Event on Saturday\, February 24 from 5-7 pm at Daphne Mae Cafe.
URL:https://centralkansascf.org/event/donor-appreciation-event-halstead-community-foundation/
LOCATION:Daphne Mae Cafe\, 208 Main St\, Halstead\, KS\, 67056\, United States
END:VEVENT
BEGIN:VEVENT
DTSTART;TZID=America/Chicago:20240224T190000
DTEND;TZID=America/Chicago:20240224T220000
DTSTAMP:20260420T172124
CREATED:20240124T212210Z
LAST-MODIFIED:20240124T212652Z
UID:12600-1708801200-1708812000@centralkansascf.org
SUMMARY:Casino Party - Hesston Community Foundation
DESCRIPTION:Here’s the deal – Hesston Community Foundation is hosting a Casino Party on Saturday\, February 24 from 7:00 – 10:00 PM at Son Wray Ranch. Purchase your tickets here ($75 per person). All proceeds from the night support the Hesston Community Foundation mission. On behalf of our board of directors and all the charities we support – THANK YOU for attending!
URL:https://centralkansascf.org/event/casino-party-hesston-community-foundation-2/
LOCATION:Son Wray Ranch\, 5420 NW 24th Street\, Newton\, KS\, 67114\, United States
END:VEVENT
END:VCALENDAR