BEGIN:VCALENDAR
VERSION:2.0
PRODID:-//Central Kansas Community Foundation - ECPv6.15.20//NONSGML v1.0//EN
CALSCALE:GREGORIAN
METHOD:PUBLISH
X-ORIGINAL-URL:https://centralkansascf.org
X-WR-CALDESC:Events for Central Kansas Community Foundation
REFRESH-INTERVAL;VALUE=DURATION:PT1H
X-Robots-Tag:noindex
X-PUBLISHED-TTL:PT1H
BEGIN:VTIMEZONE
TZID:America/Chicago
BEGIN:DAYLIGHT
TZOFFSETFROM:-0600
TZOFFSETTO:-0500
TZNAME:CDT
DTSTART:20230312T080000
END:DAYLIGHT
BEGIN:STANDARD
TZOFFSETFROM:-0500
TZOFFSETTO:-0600
TZNAME:CST
DTSTART:20231105T070000
END:STANDARD
BEGIN:DAYLIGHT
TZOFFSETFROM:-0600
TZOFFSETTO:-0500
TZNAME:CDT
DTSTART:20240310T080000
END:DAYLIGHT
BEGIN:STANDARD
TZOFFSETFROM:-0500
TZOFFSETTO:-0600
TZNAME:CST
DTSTART:20241103T070000
END:STANDARD
BEGIN:DAYLIGHT
TZOFFSETFROM:-0600
TZOFFSETTO:-0500
TZNAME:CDT
DTSTART:20250309T080000
END:DAYLIGHT
BEGIN:STANDARD
TZOFFSETFROM:-0500
TZOFFSETTO:-0600
TZNAME:CST
DTSTART:20251102T070000
END:STANDARD
END:VTIMEZONE
BEGIN:VEVENT
DTSTART;TZID=America/Chicago:20240203T070000
DTEND;TZID=America/Chicago:20240203T110000
DTSTAMP:20260420T172248
CREATED:20240124T211646Z
LAST-MODIFIED:20240124T211646Z
UID:12596-1706943600-1706958000@centralkansascf.org
SUMMARY:2024 Pancake Day - Peabody Community Foundation
DESCRIPTION:Join us for the 2024 Pancake Day on Saturday\, February 3 from 7:00 – 11:00 AM at the PBHS Brown Building. Visit the Peabody Community Foundation Facebook page for more details.
URL:https://centralkansascf.org/event/2024-pancake-day-peabody-community-foundation/
LOCATION:Peabody Burns High School\, 506 Elm Street\, Peabody\, KS\, 66866\, United States
END:VEVENT
END:VCALENDAR