BEGIN:VCALENDAR
VERSION:2.0
PRODID:-//Central Kansas Community Foundation - ECPv6.15.20//NONSGML v1.0//EN
CALSCALE:GREGORIAN
METHOD:PUBLISH
X-WR-CALNAME:Central Kansas Community Foundation
X-ORIGINAL-URL:https://centralkansascf.org
X-WR-CALDESC:Events for Central Kansas Community Foundation
REFRESH-INTERVAL;VALUE=DURATION:PT1H
X-Robots-Tag:noindex
X-PUBLISHED-TTL:PT1H
BEGIN:VTIMEZONE
TZID:America/Chicago
BEGIN:DAYLIGHT
TZOFFSETFROM:-0600
TZOFFSETTO:-0500
TZNAME:CDT
DTSTART:20220313T080000
END:DAYLIGHT
BEGIN:STANDARD
TZOFFSETFROM:-0500
TZOFFSETTO:-0600
TZNAME:CST
DTSTART:20221106T070000
END:STANDARD
BEGIN:DAYLIGHT
TZOFFSETFROM:-0600
TZOFFSETTO:-0500
TZNAME:CDT
DTSTART:20230312T080000
END:DAYLIGHT
BEGIN:STANDARD
TZOFFSETFROM:-0500
TZOFFSETTO:-0600
TZNAME:CST
DTSTART:20231105T070000
END:STANDARD
BEGIN:DAYLIGHT
TZOFFSETFROM:-0600
TZOFFSETTO:-0500
TZNAME:CDT
DTSTART:20240310T080000
END:DAYLIGHT
BEGIN:STANDARD
TZOFFSETFROM:-0500
TZOFFSETTO:-0600
TZNAME:CST
DTSTART:20241103T070000
END:STANDARD
END:VTIMEZONE
BEGIN:VEVENT
DTSTART;VALUE=DATE:20231001
DTEND;VALUE=DATE:20231219
DTSTAMP:20260420T222743
CREATED:20230820T202227Z
LAST-MODIFIED:20230820T202227Z
UID:12083-1696118400-1702943999@centralkansascf.org
SUMMARY:Match Campaign - North Newton Community Foundation
DESCRIPTION:From October 1 – December 18\, make your gift count in support of North Newton Community Foundation! Proceeds raised during this matching campaign are eligible for matching funds from the Patterson Family Foundation. More details to come!
URL:https://centralkansascf.org/event/match-campaign-north-newton-community-foundation/
CATEGORIES:Patterson Family Match
ORGANIZER;CN="North Newton Community Foundation":MAILTO:https://www.facebook.com/NorthNewtonCF/
END:VEVENT
BEGIN:VEVENT
DTSTART;VALUE=DATE:20231014
DTEND;VALUE=DATE:20231129
DTSTAMP:20260420T222743
CREATED:20230703T194534Z
LAST-MODIFIED:20230703T194645Z
UID:11992-1697241600-1701215999@centralkansascf.org
SUMMARY:Match Campaign - Halstead Community Foundation
DESCRIPTION:From October 14 – November 28\, make your gift count in support of Halstead Community Foundation! Stay tuned for more information!
URL:https://centralkansascf.org/event/match-campaign-halstead-community-foundation/
CATEGORIES:Patterson Family Match
END:VEVENT
BEGIN:VEVENT
DTSTART;VALUE=DATE:20231101
DTEND;VALUE=DATE:20231201
DTSTAMP:20260420T222743
CREATED:20230915T130429Z
LAST-MODIFIED:20231024T200410Z
UID:12246-1698796800-1701388799@centralkansascf.org
SUMMARY:CKCF Match Campaign
DESCRIPTION:From November 1-30\, CKCF is hosting their Patterson Family Match Event. Consider supporting funds outside our other affiliates that fall under CKCF management. Contributions during this month-long event will be matched to reach our goal of $70\,000. In addition to supporting the fund\, a portion of your gift will support CKCF’s operations\, allowing us to better serve all our Central Kansas Service Area. Click here to view eligible funds. \nOn November 28\, join us from 10 am – 2 pm for an open house at our new office location (400 S Main\, Suite 100\, Newton\, KS 67114). Holiday treats provided! \nFor more information\, check out the CKCF Patterson Match Poster.
URL:https://centralkansascf.org/event/ckcf-match-campaign/
CATEGORIES:Giving Tuesday,Patterson Family Match
ORGANIZER;CN="Angie Tatro%2C CEO":MAILTO:angie@centralkansascf.org
END:VEVENT
BEGIN:VEVENT
DTSTART;VALUE=DATE:20231101
DTEND;VALUE=DATE:20231201
DTSTAMP:20260420T222743
CREATED:20230820T202129Z
LAST-MODIFIED:20230820T202129Z
UID:12081-1698796800-1701388799@centralkansascf.org
SUMMARY:Match Campaign - Newton Community Foundation
DESCRIPTION:From November 1 – November 30\, make your gift count in support of Newton Community Foundation! Proceeds from this effort will be benefiting the All Together Now Playground. This event is eligible for matching funds from the Patterson Family Foundation. More details to come!
URL:https://centralkansascf.org/event/match-campaign-newton-community-foundation/
CATEGORIES:Patterson Family Match
END:VEVENT
END:VCALENDAR