BEGIN:VCALENDAR
VERSION:2.0
PRODID:-//Central Kansas Community Foundation - ECPv6.15.20//NONSGML v1.0//EN
CALSCALE:GREGORIAN
METHOD:PUBLISH
X-WR-CALNAME:Central Kansas Community Foundation
X-ORIGINAL-URL:https://centralkansascf.org
X-WR-CALDESC:Events for Central Kansas Community Foundation
REFRESH-INTERVAL;VALUE=DURATION:PT1H
X-Robots-Tag:noindex
X-PUBLISHED-TTL:PT1H
BEGIN:VTIMEZONE
TZID:America/Chicago
BEGIN:DAYLIGHT
TZOFFSETFROM:-0600
TZOFFSETTO:-0500
TZNAME:CDT
DTSTART:20220313T080000
END:DAYLIGHT
BEGIN:STANDARD
TZOFFSETFROM:-0500
TZOFFSETTO:-0600
TZNAME:CST
DTSTART:20221106T070000
END:STANDARD
BEGIN:DAYLIGHT
TZOFFSETFROM:-0600
TZOFFSETTO:-0500
TZNAME:CDT
DTSTART:20230312T080000
END:DAYLIGHT
BEGIN:STANDARD
TZOFFSETFROM:-0500
TZOFFSETTO:-0600
TZNAME:CST
DTSTART:20231105T070000
END:STANDARD
BEGIN:DAYLIGHT
TZOFFSETFROM:-0600
TZOFFSETTO:-0500
TZNAME:CDT
DTSTART:20240310T080000
END:DAYLIGHT
BEGIN:STANDARD
TZOFFSETFROM:-0500
TZOFFSETTO:-0600
TZNAME:CST
DTSTART:20241103T070000
END:STANDARD
END:VTIMEZONE
BEGIN:VEVENT
DTSTART;VALUE=DATE:20231001
DTEND;VALUE=DATE:20231219
DTSTAMP:20260420T235619
CREATED:20230820T202227Z
LAST-MODIFIED:20230820T202227Z
UID:12083-1696118400-1702943999@centralkansascf.org
SUMMARY:Match Campaign - North Newton Community Foundation
DESCRIPTION:From October 1 – December 18\, make your gift count in support of North Newton Community Foundation! Proceeds raised during this matching campaign are eligible for matching funds from the Patterson Family Foundation. More details to come!
URL:https://centralkansascf.org/event/match-campaign-north-newton-community-foundation/
CATEGORIES:Patterson Family Match
ORGANIZER;CN="North Newton Community Foundation":MAILTO:https://www.facebook.com/NorthNewtonCF/
END:VEVENT
BEGIN:VEVENT
DTSTART;VALUE=DATE:20231011
DTEND;VALUE=DATE:20231012
DTSTAMP:20260420T235619
CREATED:20230820T203402Z
LAST-MODIFIED:20230820T203402Z
UID:12093-1696982400-1697068799@centralkansascf.org
SUMMARY:Home Sweet Hesston Food Truck Rally - Hesston Community Foundation
DESCRIPTION:
URL:https://centralkansascf.org/event/home-sweet-hesston-2023/
CATEGORIES:Patterson Family Match
END:VEVENT
BEGIN:VEVENT
DTSTART;TZID=America/Chicago:20231011T120000
DTEND;TZID=America/Chicago:20231011T130000
DTSTAMP:20260420T235619
CREATED:20230104T215521Z
LAST-MODIFIED:20230112T151701Z
UID:11318-1697025600-1697029200@centralkansascf.org
SUMMARY:State of the Foundation
DESCRIPTION:Angie Tatro\, CEO of Central Kansas Community Foundation\, will provide a State of the Foundation address of current events and statistics. CKCF’s Primary Investment Manager\, Graystone Consulting\, will provide a report on the investment pool and also share market considerations. Please join to learn more about our vision for the future from an operational and financial perspective. Everyone is welcome. \nZoom Link: Click Here\nMeeting ID: 873 5976 4462\nPasscode: 491888
URL:https://centralkansascf.org/event/state-of-the-foundation-5/
ORGANIZER;CN="Angie Tatro%2C CEO":MAILTO:angie@centralkansascf.org
END:VEVENT
END:VCALENDAR