BEGIN:VCALENDAR
VERSION:2.0
PRODID:-//Central Kansas Community Foundation - ECPv6.15.20//NONSGML v1.0//EN
CALSCALE:GREGORIAN
METHOD:PUBLISH
X-WR-CALNAME:Central Kansas Community Foundation
X-ORIGINAL-URL:https://centralkansascf.org
X-WR-CALDESC:Events for Central Kansas Community Foundation
REFRESH-INTERVAL;VALUE=DURATION:PT1H
X-Robots-Tag:noindex
X-PUBLISHED-TTL:PT1H
BEGIN:VTIMEZONE
TZID:America/Chicago
BEGIN:DAYLIGHT
TZOFFSETFROM:-0600
TZOFFSETTO:-0500
TZNAME:CDT
DTSTART:20220313T080000
END:DAYLIGHT
BEGIN:STANDARD
TZOFFSETFROM:-0500
TZOFFSETTO:-0600
TZNAME:CST
DTSTART:20221106T070000
END:STANDARD
BEGIN:DAYLIGHT
TZOFFSETFROM:-0600
TZOFFSETTO:-0500
TZNAME:CDT
DTSTART:20230312T080000
END:DAYLIGHT
BEGIN:STANDARD
TZOFFSETFROM:-0500
TZOFFSETTO:-0600
TZNAME:CST
DTSTART:20231105T070000
END:STANDARD
BEGIN:DAYLIGHT
TZOFFSETFROM:-0600
TZOFFSETTO:-0500
TZNAME:CDT
DTSTART:20240310T080000
END:DAYLIGHT
BEGIN:STANDARD
TZOFFSETFROM:-0500
TZOFFSETTO:-0600
TZNAME:CST
DTSTART:20241103T070000
END:STANDARD
END:VTIMEZONE
BEGIN:VEVENT
DTSTART;TZID=America/Chicago:20230729T180000
DTEND;TZID=America/Chicago:20230729T200000
DTSTAMP:20260421T042657
CREATED:20230618T130655Z
LAST-MODIFIED:20230618T130655Z
UID:11976-1690653600-1690660800@centralkansascf.org
SUMMARY:Art Together Now - Newton Community Foundation
DESCRIPTION:Join us for an art auction and gala to benefit Slate Creek’s inclusive playground! We will have live music by Prairie Highway\, live and silent auctions\, a live painting demonstration by Virgil Penner\, art pieces by Slate Creek Elementary students & staff\, wine\, beer & light hors d’oeuvres. More information at alltogethernewton.org or on our Facebook page at facebook.com/AllTogetherNewton. \nAll Together Now Slate Creek Fund is a component fund of the Newton Community Foundation\, an affiliate of Central Kansas Community Foundation. Your donations are tax-deductible.
URL:https://centralkansascf.org/event/art-together-now-newton-community-foundation/
LOCATION:Carriage Factory Gallery\, 128 E 6th Street\, Newton\, KS\, 67114\, United States
END:VEVENT
END:VCALENDAR