BEGIN:VCALENDAR
VERSION:2.0
PRODID:-//Central Kansas Community Foundation - ECPv6.15.20//NONSGML v1.0//EN
CALSCALE:GREGORIAN
METHOD:PUBLISH
X-ORIGINAL-URL:https://centralkansascf.org
X-WR-CALDESC:Events for Central Kansas Community Foundation
REFRESH-INTERVAL;VALUE=DURATION:PT1H
X-Robots-Tag:noindex
X-PUBLISHED-TTL:PT1H
BEGIN:VTIMEZONE
TZID:America/Chicago
BEGIN:DAYLIGHT
TZOFFSETFROM:-0600
TZOFFSETTO:-0500
TZNAME:CDT
DTSTART:20210314T080000
END:DAYLIGHT
BEGIN:STANDARD
TZOFFSETFROM:-0500
TZOFFSETTO:-0600
TZNAME:CST
DTSTART:20211107T070000
END:STANDARD
BEGIN:DAYLIGHT
TZOFFSETFROM:-0600
TZOFFSETTO:-0500
TZNAME:CDT
DTSTART:20220313T080000
END:DAYLIGHT
BEGIN:STANDARD
TZOFFSETFROM:-0500
TZOFFSETTO:-0600
TZNAME:CST
DTSTART:20221106T070000
END:STANDARD
BEGIN:DAYLIGHT
TZOFFSETFROM:-0600
TZOFFSETTO:-0500
TZNAME:CDT
DTSTART:20230312T080000
END:DAYLIGHT
BEGIN:STANDARD
TZOFFSETFROM:-0500
TZOFFSETTO:-0600
TZNAME:CST
DTSTART:20231105T070000
END:STANDARD
END:VTIMEZONE
BEGIN:VEVENT
DTSTART;TZID=America/Chicago:20220909T090000
DTEND;TZID=America/Chicago:20220909T110000
DTSTAMP:20260421T184032
CREATED:20220805T021321Z
LAST-MODIFIED:20220804T021424Z
UID:10948-1662714000-1662721200@centralkansascf.org
SUMMARY:Grant Writing 101
DESCRIPTION:Please join us for “Grant Writing 101” – A Grant Workshop \nCentral Kansas Community Foundation is partnering with United Way of Harvey County for a Grant Writing Workshop.  Partners within our six-county service area are invited to attend.  You will hear the do’s and don’ts of grant writing\, have an opportunity to network as also a time of Q & A. \nPresenter: Kaely Burgess \nCost: $5 \nONLINE REGISTRATION HERE
URL:https://centralkansascf.org/event/grant-writing-101/
LOCATION:The Porch\, 727 N Main Street\, Newton\, KS\, 67114\, United States
END:VEVENT
END:VCALENDAR