BEGIN:VCALENDAR
VERSION:2.0
PRODID:-//Central Kansas Community Foundation - ECPv6.15.20//NONSGML v1.0//EN
CALSCALE:GREGORIAN
METHOD:PUBLISH
X-WR-CALNAME:Central Kansas Community Foundation
X-ORIGINAL-URL:https://centralkansascf.org
X-WR-CALDESC:Events for Central Kansas Community Foundation
REFRESH-INTERVAL;VALUE=DURATION:PT1H
X-Robots-Tag:noindex
X-PUBLISHED-TTL:PT1H
BEGIN:VTIMEZONE
TZID:America/Chicago
BEGIN:DAYLIGHT
TZOFFSETFROM:-0600
TZOFFSETTO:-0500
TZNAME:CDT
DTSTART:20210314T080000
END:DAYLIGHT
BEGIN:STANDARD
TZOFFSETFROM:-0500
TZOFFSETTO:-0600
TZNAME:CST
DTSTART:20211107T070000
END:STANDARD
BEGIN:DAYLIGHT
TZOFFSETFROM:-0600
TZOFFSETTO:-0500
TZNAME:CDT
DTSTART:20220313T080000
END:DAYLIGHT
BEGIN:STANDARD
TZOFFSETFROM:-0500
TZOFFSETTO:-0600
TZNAME:CST
DTSTART:20221106T070000
END:STANDARD
BEGIN:DAYLIGHT
TZOFFSETFROM:-0600
TZOFFSETTO:-0500
TZNAME:CDT
DTSTART:20230312T080000
END:DAYLIGHT
BEGIN:STANDARD
TZOFFSETFROM:-0500
TZOFFSETTO:-0600
TZNAME:CST
DTSTART:20231105T070000
END:STANDARD
END:VTIMEZONE
BEGIN:VEVENT
DTSTART;TZID=America/Chicago:20220720T120000
DTEND;TZID=America/Chicago:20220720T130000
DTSTAMP:20260421T215943
CREATED:20211219T053019Z
LAST-MODIFIED:20211219T053046Z
UID:10285-1658318400-1658322000@centralkansascf.org
SUMMARY:State of the Foundation
DESCRIPTION:Please join to learn more about the state of our foundation and our vision for the future from an operational and financial perspective. All are welcome. \nZoom Link: Click Here\nMeeting ID: 823 8543 7747\nPasscode: 061173
URL:https://centralkansascf.org/event/state-of-the-foundation-2/
ORGANIZER;CN="Angie Tatro%2C CEO":MAILTO:angie@centralkansascf.org
END:VEVENT
END:VCALENDAR