BEGIN:VCALENDAR
VERSION:2.0
PRODID:-//Central Kansas Community Foundation - ECPv6.15.20//NONSGML v1.0//EN
CALSCALE:GREGORIAN
METHOD:PUBLISH
X-WR-CALNAME:Central Kansas Community Foundation
X-ORIGINAL-URL:https://centralkansascf.org
X-WR-CALDESC:Events for Central Kansas Community Foundation
REFRESH-INTERVAL;VALUE=DURATION:PT1H
X-Robots-Tag:noindex
X-PUBLISHED-TTL:PT1H
BEGIN:VTIMEZONE
TZID:America/Chicago
BEGIN:DAYLIGHT
TZOFFSETFROM:-0600
TZOFFSETTO:-0500
TZNAME:CDT
DTSTART:20210314T080000
END:DAYLIGHT
BEGIN:STANDARD
TZOFFSETFROM:-0500
TZOFFSETTO:-0600
TZNAME:CST
DTSTART:20211107T070000
END:STANDARD
BEGIN:DAYLIGHT
TZOFFSETFROM:-0600
TZOFFSETTO:-0500
TZNAME:CDT
DTSTART:20220313T080000
END:DAYLIGHT
BEGIN:STANDARD
TZOFFSETFROM:-0500
TZOFFSETTO:-0600
TZNAME:CST
DTSTART:20221106T070000
END:STANDARD
BEGIN:DAYLIGHT
TZOFFSETFROM:-0600
TZOFFSETTO:-0500
TZNAME:CDT
DTSTART:20230312T080000
END:DAYLIGHT
BEGIN:STANDARD
TZOFFSETFROM:-0500
TZOFFSETTO:-0600
TZNAME:CST
DTSTART:20231105T070000
END:STANDARD
END:VTIMEZONE
BEGIN:VEVENT
DTSTART;TZID=America/Chicago:20220611T090000
DTEND;TZID=America/Chicago:20220611T120000
DTSTAMP:20260421T233522
CREATED:20220525T155744Z
LAST-MODIFIED:20220528T193547Z
UID:10779-1654938000-1654948800@centralkansascf.org
SUMMARY:Newton & North Newton Garden Tour
DESCRIPTION:Newton Public Library is excited for the 26th Annual Newton/North Newton -Garden Tour! We look forward to seeing you June 11\, 9:00am–Noon\, and June 12\, 1:00pm–4:00pm. Tickets (suggested donation of $10) and raffle tickets are available at the Newton Public Library! Raffle drawing will take place at the conclusion of the tour. Proceeds will be supporting the Newton Public Library Foundation\, an affiliate of Central Kansas Community Foundation\, component fund – Newton Public Library Building Fund. More information at www.newtonplks.org/gardens. \nTICKET DONATIONS HERE
URL:https://centralkansascf.org/event/newton-north-newton-garden-tour/
END:VEVENT
END:VCALENDAR