BEGIN:VCALENDAR
VERSION:2.0
PRODID:-//Central Kansas Community Foundation - ECPv6.15.20//NONSGML v1.0//EN
CALSCALE:GREGORIAN
METHOD:PUBLISH
X-WR-CALNAME:Central Kansas Community Foundation
X-ORIGINAL-URL:https://centralkansascf.org
X-WR-CALDESC:Events for Central Kansas Community Foundation
REFRESH-INTERVAL;VALUE=DURATION:PT1H
X-Robots-Tag:noindex
X-PUBLISHED-TTL:PT1H
BEGIN:VTIMEZONE
TZID:America/Chicago
BEGIN:DAYLIGHT
TZOFFSETFROM:-0600
TZOFFSETTO:-0500
TZNAME:CDT
DTSTART:20210314T080000
END:DAYLIGHT
BEGIN:STANDARD
TZOFFSETFROM:-0500
TZOFFSETTO:-0600
TZNAME:CST
DTSTART:20211107T070000
END:STANDARD
BEGIN:DAYLIGHT
TZOFFSETFROM:-0600
TZOFFSETTO:-0500
TZNAME:CDT
DTSTART:20220313T080000
END:DAYLIGHT
BEGIN:STANDARD
TZOFFSETFROM:-0500
TZOFFSETTO:-0600
TZNAME:CST
DTSTART:20221106T070000
END:STANDARD
BEGIN:DAYLIGHT
TZOFFSETFROM:-0600
TZOFFSETTO:-0500
TZNAME:CDT
DTSTART:20230312T080000
END:DAYLIGHT
BEGIN:STANDARD
TZOFFSETFROM:-0500
TZOFFSETTO:-0600
TZNAME:CST
DTSTART:20231105T070000
END:STANDARD
END:VTIMEZONE
BEGIN:VEVENT
DTSTART;TZID=America/Chicago:20220525T120000
DTEND;TZID=America/Chicago:20220525T130000
DTSTAMP:20260422T005556
CREATED:20220517T221645Z
LAST-MODIFIED:20220517T221645Z
UID:10755-1653480000-1653483600@centralkansascf.org
SUMMARY:Invest Central Kansas - Impact Investing Overview
DESCRIPTION:As a Fund Advisor you are invited to come learn more about Impact Investing. The opportunity to be part of the collective impact this program will have for our service area is tremendous. \nWe look forward to providing an overview of how the program works\, how a part of each fund can make an impact to the whole and answer any questions you have. You have received a letter regarding this opportunity\, but we want to provide another space to learn more and answer questions. \nPlease join us!! \nTo Building Stronger Communities –\nCKCF Board of Directors \nZoom Invite Below: \nAngie Tatro is inviting you to a scheduled Zoom meeting. \nTopic: Invest Central Kansas – Impact Investing Overview\nTime: May 25\, 2022 12:00 PM Central Time (US and Canada) \nJoin Zoom Meeting\nhttps://us02web.zoom.us/j/81607255319?pwd=-QgxKtLP_rjalfkyoyRWfDu0KhpS-c.1 \nMeeting ID: 816 0725 5319\nPasscode: 704329\nOne tap mobile\n+13462487799\,\,81607255319#\,\,\,\,*704329# US (Houston)\n+16699006833\,\,81607255319#\,\,\,\,*704329# US (San Jose) \nDial by your location\n+1 346 248 7799 US (Houston)\n+1 669 900 6833 US (San Jose)\n+1 253 215 8782 US (Tacoma)\n+1 312 626 6799 US (Chicago)\n+1 929 205 6099 US (New York)\n+1 301 715 8592 US (Washington DC)\nMeeting ID: 816 0725 5319\nPasscode: 704329\nFind your local number: https://us02web.zoom.us/u/k1Mk5X8yK \n 
URL:https://centralkansascf.org/event/invest-central-kansas-impact-investing-overview/
LOCATION:zoom
ORGANIZER;CN="Angie Tatro%2C CEO":MAILTO:angie@centralkansascf.org
END:VEVENT
END:VCALENDAR