BEGIN:VCALENDAR
VERSION:2.0
PRODID:-//Central Kansas Community Foundation - ECPv6.15.20//NONSGML v1.0//EN
CALSCALE:GREGORIAN
METHOD:PUBLISH
X-ORIGINAL-URL:https://centralkansascf.org
X-WR-CALDESC:Events for Central Kansas Community Foundation
REFRESH-INTERVAL;VALUE=DURATION:PT1H
X-Robots-Tag:noindex
X-PUBLISHED-TTL:PT1H
BEGIN:VTIMEZONE
TZID:America/Chicago
BEGIN:DAYLIGHT
TZOFFSETFROM:-0600
TZOFFSETTO:-0500
TZNAME:CDT
DTSTART:20210314T080000
END:DAYLIGHT
BEGIN:STANDARD
TZOFFSETFROM:-0500
TZOFFSETTO:-0600
TZNAME:CST
DTSTART:20211107T070000
END:STANDARD
BEGIN:DAYLIGHT
TZOFFSETFROM:-0600
TZOFFSETTO:-0500
TZNAME:CDT
DTSTART:20220313T080000
END:DAYLIGHT
BEGIN:STANDARD
TZOFFSETFROM:-0500
TZOFFSETTO:-0600
TZNAME:CST
DTSTART:20221106T070000
END:STANDARD
BEGIN:DAYLIGHT
TZOFFSETFROM:-0600
TZOFFSETTO:-0500
TZNAME:CDT
DTSTART:20230312T080000
END:DAYLIGHT
BEGIN:STANDARD
TZOFFSETFROM:-0500
TZOFFSETTO:-0600
TZNAME:CST
DTSTART:20231105T070000
END:STANDARD
END:VTIMEZONE
BEGIN:VEVENT
DTSTART;TZID=America/Chicago:20220210T120000
DTEND;TZID=America/Chicago:20220210T130000
DTSTAMP:20260422T045903
CREATED:20220125T163558Z
LAST-MODIFIED:20220125T163611Z
UID:10403-1644494400-1644498000@centralkansascf.org
SUMMARY:Parliamentary Procedure Training
DESCRIPTION:Open to all Affiliate Boards and CKCF Board and Committees.\nPlus\, we welcome charities and local business owners to attend. \nZoom Link: Click Here\nMeeting ID: 847 5057 1811\nPasscode: 328580 \n \nPresenter: Anne Pitts\n4-H & Human Development Agent\nK-State Research and Extension – Harvey County\naelpers@ksu.edu | https://www.harvey.k-state.edu/\n800 N Main\, PO Box 583\, Newton\, KS 67114\nPhone: 316-284-6930
URL:https://centralkansascf.org/event/10403/
ORGANIZER;CN="Angie Tatro%2C CEO":MAILTO:angie@centralkansascf.org
END:VEVENT
END:VCALENDAR