BEGIN:VCALENDAR
VERSION:2.0
PRODID:-//Central Kansas Community Foundation - ECPv6.15.20//NONSGML v1.0//EN
CALSCALE:GREGORIAN
METHOD:PUBLISH
X-WR-CALNAME:Central Kansas Community Foundation
X-ORIGINAL-URL:https://centralkansascf.org
X-WR-CALDESC:Events for Central Kansas Community Foundation
REFRESH-INTERVAL;VALUE=DURATION:PT1H
X-Robots-Tag:noindex
X-PUBLISHED-TTL:PT1H
BEGIN:VTIMEZONE
TZID:America/Chicago
BEGIN:DAYLIGHT
TZOFFSETFROM:-0600
TZOFFSETTO:-0500
TZNAME:CDT
DTSTART:20210314T080000
END:DAYLIGHT
BEGIN:STANDARD
TZOFFSETFROM:-0500
TZOFFSETTO:-0600
TZNAME:CST
DTSTART:20211107T070000
END:STANDARD
BEGIN:DAYLIGHT
TZOFFSETFROM:-0600
TZOFFSETTO:-0500
TZNAME:CDT
DTSTART:20220313T080000
END:DAYLIGHT
BEGIN:STANDARD
TZOFFSETFROM:-0500
TZOFFSETTO:-0600
TZNAME:CST
DTSTART:20221106T070000
END:STANDARD
BEGIN:DAYLIGHT
TZOFFSETFROM:-0600
TZOFFSETTO:-0500
TZNAME:CDT
DTSTART:20230312T080000
END:DAYLIGHT
BEGIN:STANDARD
TZOFFSETFROM:-0500
TZOFFSETTO:-0600
TZNAME:CST
DTSTART:20231105T070000
END:STANDARD
END:VTIMEZONE
BEGIN:VEVENT
DTSTART;TZID=America/Chicago:20220112T120000
DTEND;TZID=America/Chicago:20220112T124500
DTSTAMP:20260422T063012
CREATED:20211203T215435Z
LAST-MODIFIED:20220125T163712Z
UID:10226-1641988800-1641991500@centralkansascf.org
SUMMARY:Cancelled: Parliamentary Procedure Training
DESCRIPTION:EVENT CANCELED: Due to sickness\, our Zoom event for this afternoon has been canceled. We are sorry for the inconvenience and will re-schedule the event as soon as we are able. \n  \nOpen to all Affiliate Boards and CKCF Board and Committees.\nPlus\, we welcome charities and local business owners to attend. \n \n \nPresenter: Anne Pitts\n4-H & Human Development Agent\nK-State Research and Extension – Harvey County\naelpers@ksu.edu | https://www.harvey.k-state.edu/\n800 N Main\, PO Box 583\, Newton\, KS 67114\nPhone: 316-284-6930
URL:https://centralkansascf.org/event/parliamentary-procedure-training/
END:VEVENT
END:VCALENDAR